BEGIN:VCALENDAR
VERSION:2.0
PRODID:-//Hazlitt - ECPv6.15.20//NONSGML v1.0//EN
CALSCALE:GREGORIAN
METHOD:PUBLISH
X-ORIGINAL-URL:https://hazlitt1852.com
X-WR-CALDESC:Events for Hazlitt
REFRESH-INTERVAL;VALUE=DURATION:PT1H
X-Robots-Tag:noindex
X-PUBLISHED-TTL:PT1H
BEGIN:VTIMEZONE
TZID:America/New_York
BEGIN:DAYLIGHT
TZOFFSETFROM:-0500
TZOFFSETTO:-0400
TZNAME:EDT
DTSTART:20250309T070000
END:DAYLIGHT
BEGIN:STANDARD
TZOFFSETFROM:-0400
TZOFFSETTO:-0500
TZNAME:EST
DTSTART:20251102T060000
END:STANDARD
BEGIN:DAYLIGHT
TZOFFSETFROM:-0500
TZOFFSETTO:-0400
TZNAME:EDT
DTSTART:20260308T070000
END:DAYLIGHT
BEGIN:STANDARD
TZOFFSETFROM:-0400
TZOFFSETTO:-0500
TZNAME:EST
DTSTART:20261101T060000
END:STANDARD
BEGIN:DAYLIGHT
TZOFFSETFROM:-0500
TZOFFSETTO:-0400
TZNAME:EDT
DTSTART:20270314T070000
END:DAYLIGHT
BEGIN:STANDARD
TZOFFSETFROM:-0400
TZOFFSETTO:-0500
TZNAME:EST
DTSTART:20271107T060000
END:STANDARD
END:VTIMEZONE
BEGIN:VEVENT
DTSTART;TZID=America/New_York:20260308T120000
DTEND;TZID=America/New_York:20260308T140000
DTSTAMP:20260423T135300
CREATED:20260223T204642Z
LAST-MODIFIED:20260223T211632Z
UID:10001744-1772971200-1772978400@hazlitt1852.com
SUMMARY:Sea Glass Tree Making
DESCRIPTION:Join us at our Hector\, NY location\, Hazlitt 1852 Vineyards for a creative and cozy hands-on workshop with Windy Ridge Acres/Windy Ridge Wax Melts where you’ll design and create your own beautiful sea glass tree — a charming piece that adds a soft glow to your home décor. \nChoose from five beautiful sea glass colors\, including NEW Pink and Lilac\, or mix and match shades to create a one-of-a-kind design that’s uniquely yours. \nEach sea glass tree includes: \n\n\nA full set of materials \n\n\nLights to be added to create a warm evening glow \n\n\nA charming sea star topper \n\n\nEnjoy specially discounted drinks from the winery while you craft and create. \nSea Glass Tree Making – $55 per person \nAdvance registration is required. Choose your color (or mix them!) Spots are limited and fill up quickly so be sure to register today!► Register Now \nPlease note: No refunds. If you can’t attend\, a credit toward a future workshop will be issued.
URL:https://hazlitt1852.com/event/sea-glass-tree-making/
LOCATION:Hazlitt 1852 Vineyards\, 5712 State Route 414\, Hector\, NY\, 14841\, United States
ATTACH;FMTTYPE=image/jpeg:https://hazlitt1852.com/wp-content/uploads/2026/02/800x400_Seaglass_WebCALimage-optimized.jpg
END:VEVENT
BEGIN:VEVENT
DTSTART;TZID=America/New_York:20260308T120000
DTEND;TZID=America/New_York:20260308T150000
DTSTAMP:20260423T135300
CREATED:20260302T162604Z
LAST-MODIFIED:20260302T162604Z
UID:10002086-1772971200-1772982000@hazlitt1852.com
SUMMARY:Flower Resin Pendant – Women’s Weekend\, Naples\, NY
DESCRIPTION:Celebrate Women’s Weekend in Naples with a fun\, quick make-and-take craft at The Wine Chalet at Hazlitt Red Cat Cellars. Join Annie to create your own flower resin pendant—choose colorful dried flowers\, design your pendant\, and have it sealed with resin for a one-of-a-kind keepsake. \nAll supplies are provided\, and each pendant takes about 15 minutes to complete. No reservations required—stop in anytime between 12–3 PM. \nCost: $5 per pendant
URL:https://hazlitt1852.com/event/flower-resin-pendant-womens-weekend-naples-ny/
LOCATION:The Wine Chalet at Hazlitt Red Cat Cellars\, 1 Lake Niagara Lane\, Naples\, NY\, 14521\, United States
ATTACH;FMTTYPE=image/jpeg:https://hazlitt1852.com/wp-content/uploads/2026/03/800x400_AnnResin_WebCALimage_new.jpg
END:VEVENT
END:VCALENDAR