BEGIN:VCALENDAR
VERSION:2.0
PRODID:-//Hazlitt - ECPv6.15.20//NONSGML v1.0//EN
CALSCALE:GREGORIAN
METHOD:PUBLISH
X-ORIGINAL-URL:https://hazlitt1852.com
X-WR-CALDESC:Events for Hazlitt
REFRESH-INTERVAL;VALUE=DURATION:PT1H
X-Robots-Tag:noindex
X-PUBLISHED-TTL:PT1H
BEGIN:VTIMEZONE
TZID:America/New_York
BEGIN:DAYLIGHT
TZOFFSETFROM:-0500
TZOFFSETTO:-0400
TZNAME:EDT
DTSTART:20250309T070000
END:DAYLIGHT
BEGIN:STANDARD
TZOFFSETFROM:-0400
TZOFFSETTO:-0500
TZNAME:EST
DTSTART:20251102T060000
END:STANDARD
BEGIN:DAYLIGHT
TZOFFSETFROM:-0500
TZOFFSETTO:-0400
TZNAME:EDT
DTSTART:20260308T070000
END:DAYLIGHT
BEGIN:STANDARD
TZOFFSETFROM:-0400
TZOFFSETTO:-0500
TZNAME:EST
DTSTART:20261101T060000
END:STANDARD
BEGIN:DAYLIGHT
TZOFFSETFROM:-0500
TZOFFSETTO:-0400
TZNAME:EDT
DTSTART:20270314T070000
END:DAYLIGHT
BEGIN:STANDARD
TZOFFSETFROM:-0400
TZOFFSETTO:-0500
TZNAME:EST
DTSTART:20271107T060000
END:STANDARD
END:VTIMEZONE
BEGIN:VEVENT
DTSTART;TZID=America/New_York:20260314T100000
DTEND;TZID=America/New_York:20260314T213000
DTSTAMP:20260423T135313
CREATED:20260225T192026Z
LAST-MODIFIED:20260305T173728Z
UID:10001745-1773482400-1773523800@hazlitt1852.com
SUMMARY:Irish I was in the Tropics Party feat. Kilrush!
DESCRIPTION:Grab your shamrocks and your sunglasses because we’re throwing a St. Patrick’s Day party with a tropical twist at Hazlitt 1852 Vineyards in Hector\, NY! Join us Saturday\, March 14th from 10 AM to 9:30 PM for a full day of wine\, live music from Celtic rock band Kilrush\, green wine slushies (obviously)\, and plenty of reasons to celebrate. It’s festive\, it’s a little unexpected\, and yes… it’s totally FREE to attend. Let’s make it a day to remember on Seneca Lake! \nALL-DAY HIGHLIGHTS\n\nFREE – Did we mention it’s free to attend?⁣\n30% Off Case Purchases* – Stock up on your favorite wines in-store and online all weekend long. (March 14-15).⁣\nRetail Shop Open Late – shop until 9:30 PM⁣\n$5 Wine Tastings – Yes\, you read that right! Normally $10.⁣\nGreen Wine Slushies – it’s not officially St. Patrick’s Day until you have a green wine slushy!⁣\nDress to Impress – Wear your best Irish and/or tropical attire – because who says you can’t wear shamrocks and sunglasses? Winner of the Best Irish an/or Tropical Attire Costume Contest will be announced during Kilrush’s show in the evening. Must be present to win.⁣\nFood Truck Onsite – “Street Cravings” food truck will be here\n\nEVENING FUN • 5:30-9:30 PM\n\nLive Music by Kilrush @ the Oasis⁣ (5:30-9:30 PM)\nIrish and/or Tropical Costume Contest – Wear your best Irish and/or tropical attire – because who says you can’t wear shamrocks and sunglasses? Winner announced during live music. Must be present to win.⁣\n\n*Party will be held at Hazlitt 1852 Vineyards located on Seneca Lake in Hector\, NY. The 30% off case purchase discount will also be redeemable at our second winery location\, Hazlitt Red Cat Cellars located on Canandaigua Lake in Naples\, NY. The 30% discount cannot be combined with other sales or quantity discounts. No coupon code necessary – discount will be automatically applied online once a case of wine is added to the shopping cart. Sale ends 𝟹/𝟷𝟻/𝟸𝟼 in-store at 5:00 p.m. and online at 11:59 p.m. EST. 
URL:https://hazlitt1852.com/event/irish-i-was-in-the-tropics-party-2026/
LOCATION:Hazlitt 1852 Vineyards\, 5712 State Route 414\, Hector\, NY\, 14841\, United States
ATTACH;FMTTYPE=image/jpeg:https://hazlitt1852.com/wp-content/uploads/2026/02/800x400_MAR30_WebCALimage.jpg
END:VEVENT
END:VCALENDAR