BEGIN:VCALENDAR
VERSION:2.0
PRODID:-//Hazlitt - ECPv6.15.20//NONSGML v1.0//EN
CALSCALE:GREGORIAN
METHOD:PUBLISH
X-WR-CALNAME:Hazlitt
X-ORIGINAL-URL:https://hazlitt1852.com
X-WR-CALDESC:Events for Hazlitt
REFRESH-INTERVAL;VALUE=DURATION:PT1H
X-Robots-Tag:noindex
X-PUBLISHED-TTL:PT1H
BEGIN:VTIMEZONE
TZID:America/New_York
BEGIN:DAYLIGHT
TZOFFSETFROM:-0500
TZOFFSETTO:-0400
TZNAME:EDT
DTSTART:20250309T070000
END:DAYLIGHT
BEGIN:STANDARD
TZOFFSETFROM:-0400
TZOFFSETTO:-0500
TZNAME:EST
DTSTART:20251102T060000
END:STANDARD
BEGIN:DAYLIGHT
TZOFFSETFROM:-0500
TZOFFSETTO:-0400
TZNAME:EDT
DTSTART:20260308T070000
END:DAYLIGHT
BEGIN:STANDARD
TZOFFSETFROM:-0400
TZOFFSETTO:-0500
TZNAME:EST
DTSTART:20261101T060000
END:STANDARD
BEGIN:DAYLIGHT
TZOFFSETFROM:-0500
TZOFFSETTO:-0400
TZNAME:EDT
DTSTART:20270314T070000
END:DAYLIGHT
BEGIN:STANDARD
TZOFFSETFROM:-0400
TZOFFSETTO:-0500
TZNAME:EST
DTSTART:20271107T060000
END:STANDARD
END:VTIMEZONE
BEGIN:VEVENT
DTSTART;TZID=America/New_York:20260320T120000
DTEND;TZID=America/New_York:20260322T170000
DTSTAMP:20260423T135225
CREATED:20260227T202516Z
LAST-MODIFIED:20260227T202516Z
UID:10002087-1774008000-1774198800@hazlitt1852.com
SUMMARY:Wine & Brunch Seneca Lake Wine Trail Event
DESCRIPTION:Join us on the Seneca Lake Wine Trail for Wine and Brunch\, a celebration of morning-inspired flavors perfectly paired with world-class cool-climate wines. As a ticketholder\, you’ll visit participating wineries and enjoy a thoughtfully crafted\, brunch-themed food and wine pairing at each stop. \nBut the experience doesn’t end there—each winery will also pour three additional samples of wine\, giving you a fuller taste of their lineup and a chance to discover new favorites along the way. \nSpend the weekend sipping\, savoring\, and taking in the beautiful scenery of Seneca Lake. Whether you’re a brunch lover\, a wine enthusiast\, or simply looking for a fun and flavorful getaway\, Wine and Brunch is the perfect way to indulge. \nEach wine tasting ticketholder receives a wine and food pairing\, plus an additional three tastings at each participating winery. Designated drivers receive the food offering at each participating winery\, plus non-alcoholic beverages along the way. \n► GET TICKETS & MORE DETAILS
URL:https://hazlitt1852.com/event/wine-brunch-seneca-lake-wine-trail-event/
LOCATION:Hazlitt 1852 Vineyards & Other Wineries Along the Seneca Lake Wine Trail
ATTACH;FMTTYPE=image/webp:https://hazlitt1852.com/wp-content/uploads/2026/02/Wine-and-Brunch.webp
END:VEVENT
END:VCALENDAR