BEGIN:VCALENDAR
VERSION:2.0
PRODID:-//Hazlitt - ECPv6.15.20//NONSGML v1.0//EN
CALSCALE:GREGORIAN
METHOD:PUBLISH
X-WR-CALNAME:Hazlitt
X-ORIGINAL-URL:https://hazlitt1852.com
X-WR-CALDESC:Events for Hazlitt
REFRESH-INTERVAL;VALUE=DURATION:PT1H
X-Robots-Tag:noindex
X-PUBLISHED-TTL:PT1H
BEGIN:VTIMEZONE
TZID:America/New_York
BEGIN:DAYLIGHT
TZOFFSETFROM:-0500
TZOFFSETTO:-0400
TZNAME:EDT
DTSTART:20250309T070000
END:DAYLIGHT
BEGIN:STANDARD
TZOFFSETFROM:-0400
TZOFFSETTO:-0500
TZNAME:EST
DTSTART:20251102T060000
END:STANDARD
BEGIN:DAYLIGHT
TZOFFSETFROM:-0500
TZOFFSETTO:-0400
TZNAME:EDT
DTSTART:20260308T070000
END:DAYLIGHT
BEGIN:STANDARD
TZOFFSETFROM:-0400
TZOFFSETTO:-0500
TZNAME:EST
DTSTART:20261101T060000
END:STANDARD
BEGIN:DAYLIGHT
TZOFFSETFROM:-0500
TZOFFSETTO:-0400
TZNAME:EDT
DTSTART:20270314T070000
END:DAYLIGHT
BEGIN:STANDARD
TZOFFSETFROM:-0400
TZOFFSETTO:-0500
TZNAME:EST
DTSTART:20271107T060000
END:STANDARD
END:VTIMEZONE
BEGIN:VEVENT
DTSTART;TZID=America/New_York:20260501T183000
DTEND;TZID=America/New_York:20260501T193000
DTSTAMP:20260422T232107
CREATED:20260417T134218Z
LAST-MODIFIED:20260417T134218Z
UID:10002100-1777660200-1777663800@hazlitt1852.com
SUMMARY:Tipsy Terrarium Night at Hazlitt Red Cat Cellars
DESCRIPTION:Join us and Pixie Moss Meadows on Friday\, May 1 from 6:30 to 7:30 PM at Hazlitt Red Cat Cellars in Naples\, NY for a hands on Tipsy Terrarium Night where you’ll get your hands a little dirty\, let your creativity wander and come to life\, and build a magical self sustaining terrarium of your own. \nDuring this guided experience\, you’ll create an enclosed glass world using live plants\, lush moss\, layered soils\, and whimsical décor\, forming a tiny living ecosystem designed to recycle its own moisture and thrive with minimal care. \nThis workshop is beginner friendly and relaxed\, inviting you to slow down\, sip\, and soak in the vineyard atmosphere while creating something truly special to take home. \nA cozy\, creative night out filled with plants\, good company\, and great wine. \nTickets are $50 per guest and include your glass terrarium vessel\, all plants and materials\, décor and creatures\, simple aftercare guidance\, and step by step instruction throughout the evening. \nWine is not included in the ticket price. Hazlitt’s wines will be available for purchase by the glass or bottle to enjoy during the workshop. \nSeating is limited for this special spring pop up\, so grab a friend\, plan a date night\, or treat yourself to a creative night out. \nGlass vessels\, plants\, and décor may vary based on availability. \n► BUY TICKETS\n \nPlease note that we reserve the right to reschedule our workshops due to any unforeseen weather conditions or family emergency. We will let you know within 24 hours rescheduling dates and start time. \nAll ticket sales are non-refundable.
URL:https://hazlitt1852.com/event/tipsy-terrarium-night-at-hazlitt-red-cat-cellars/
LOCATION:Hazlitt Red Cat Cellars\, 1 Lake Niagara Lane\, Naples\, NY\, 14512
ATTACH;FMTTYPE=image/png:https://hazlitt1852.com/wp-content/uploads/2026/04/800x400_TipsyTerrarium_WebCALimage.png
END:VEVENT
BEGIN:VEVENT
DTSTART;TZID=America/New_York:20260510T110000
DTEND;TZID=America/New_York:20260510T170000
DTSTAMP:20260422T232107
CREATED:20260401T203106Z
LAST-MODIFIED:20260401T203136Z
UID:10002095-1778410800-1778432400@hazlitt1852.com
SUMMARY:Mother's Day Mimosas • Hazlitt Red Cat Cellars\, Naples\, NY
DESCRIPTION:Celebrate mom with a mimosa (or two!) at the winery. Our mimosas are made with our Bubbly Riesling (dry) with your choice of orange juice\, apple juice\, or grapefruit juice. Just $8 each. Cheers to Mom! \nEnjoy at either winery location: Hazlitt 1852 Vineyards in Hector\, NY or Hazlitt Red Cat Cellars in Naples\, NY.
URL:https://hazlitt1852.com/event/mothers-day-mimosas-hazlitt-red-cat-cellars-naples-ny/
LOCATION:Hazlitt Red Cat Cellars\, 1 Lake Niagara Lane\, Naples\, NY\, 14512
ATTACH;FMTTYPE=image/png:https://hazlitt1852.com/wp-content/uploads/2025/05/MotherDayMimosaHazWebCalendar_naples.png
END:VEVENT
BEGIN:VEVENT
DTSTART;TZID=America/New_York:20260530T110000
DTEND;TZID=America/New_York:20260530T170000
DTSTAMP:20260422T232107
CREATED:20260415T141723Z
LAST-MODIFIED:20260415T141723Z
UID:10002099-1780138800-1780160400@hazlitt1852.com
SUMMARY:Wine\, Wheels & Weekend Feels • Naples\, NY
DESCRIPTION:Wine\, Wheels\, & Weekend Feels | 11 AM – 5 PM \nWe’re bringing the street fest vibes to Hazlitt Red Cat Cellars\, Saturday\, May 30\, 2026. Food trucks are rolling in\, local craft vendors will line the street\, live music\, and of course all of your favorite wines to enjoy. So\, grab your friends and kick off your summer weekend with us! \nCheck Out All The Fun! \n\nFree admission\nLawn games and relaxed outdoor fun\nWine by the glass\, tastings\, wine slushies\, and NA beverages\nThe Wine Chalet will be open\nLive Music\n\nCrazy Chester’s Porch Project (1:30-4:30 PM) – Funky\, feel-good bluegrass tunes\n\n\nHands-On Experience\n\nMake & Take Pop-Up Art with Annie(2:00-4:00 PM) – Create your own cyanotype image; developed by the sun\n\n\nFood Trucks\n\nCousins Maine Lobster \nMelt Food Truck & Catering – Bomb Grilled Cheese \n\n\nCraft Vendors\n\n1808 Tattoo – pop-up tattoos \nHoney Badger Homestead \nEdgemere Coffee \nBugs Mugs \nHunts-Hollow Hot Sauce \nJBloom \nIris & Ink\n\n\n\nCome for the wine\, stay for the weekend feels! \nHazlitt Red Cat Cellars • 1 Niagara Lane\, Naples\, NY 14512
URL:https://hazlitt1852.com/event/wine-wheels-weekend-feels-naples-ny/
LOCATION:Hazlitt Red Cat Cellars\, 1 Lake Niagara Lane\, Naples\, NY\, 14512
ATTACH;FMTTYPE=image/jpeg:https://hazlitt1852.com/wp-content/uploads/2026/04/Website-BANNER-800x400-1.jpg
END:VEVENT
END:VCALENDAR