BEGIN:VCALENDAR
VERSION:2.0
PRODID:-//Hazlitt - ECPv6.15.20//NONSGML v1.0//EN
CALSCALE:GREGORIAN
METHOD:PUBLISH
X-WR-CALNAME:Hazlitt
X-ORIGINAL-URL:https://hazlitt1852.com
X-WR-CALDESC:Events for Hazlitt
REFRESH-INTERVAL;VALUE=DURATION:PT1H
X-Robots-Tag:noindex
X-PUBLISHED-TTL:PT1H
BEGIN:VTIMEZONE
TZID:America/New_York
BEGIN:DAYLIGHT
TZOFFSETFROM:-0500
TZOFFSETTO:-0400
TZNAME:EDT
DTSTART:20210314T070000
END:DAYLIGHT
BEGIN:STANDARD
TZOFFSETFROM:-0400
TZOFFSETTO:-0500
TZNAME:EST
DTSTART:20211107T060000
END:STANDARD
BEGIN:DAYLIGHT
TZOFFSETFROM:-0500
TZOFFSETTO:-0400
TZNAME:EDT
DTSTART:20220313T070000
END:DAYLIGHT
BEGIN:STANDARD
TZOFFSETFROM:-0400
TZOFFSETTO:-0500
TZNAME:EST
DTSTART:20221106T060000
END:STANDARD
BEGIN:DAYLIGHT
TZOFFSETFROM:-0500
TZOFFSETTO:-0400
TZNAME:EDT
DTSTART:20230312T070000
END:DAYLIGHT
BEGIN:STANDARD
TZOFFSETFROM:-0400
TZOFFSETTO:-0500
TZNAME:EST
DTSTART:20231105T060000
END:STANDARD
BEGIN:DAYLIGHT
TZOFFSETFROM:-0500
TZOFFSETTO:-0400
TZNAME:EDT
DTSTART:20240310T070000
END:DAYLIGHT
BEGIN:STANDARD
TZOFFSETFROM:-0400
TZOFFSETTO:-0500
TZNAME:EST
DTSTART:20241103T060000
END:STANDARD
END:VTIMEZONE
BEGIN:VEVENT
DTSTART;TZID=America/New_York:20230312T110000
DTEND;TZID=America/New_York:20230312T170000
DTSTAMP:20260423T023742
CREATED:20230302T162815Z
LAST-MODIFIED:20230302T162917Z
UID:10001452-1678618800-1678640400@hazlitt1852.com
SUMMARY:Popcorn & Wine Flights • Hazlitt Red Cat Cellars\, Naples\, NY
DESCRIPTION:Pair your wine/cider/seltzer flight with a $5 FLX Popcorn Co. Sampler featuring: \n\n\n Wine Trail White Cheddar ~ Crisp popcorn coated in sharp white cheddar and perfectly salted. Gluten-free. \n\n\n Canandaigua Cashew ~ Caramel corn adorned with pieces of roasted cashews. Vegan & gluten-free. \n\n\n Honeoye Sweet Heat ~ Perfect combo of sweet & heat. Crisp kettle corn with a pop of Buffalo hot wing flavor. Naturally vegan and gluten-free. \n\n\n Cayuga Cinnamon Sugar ~ Crispy kettle corn with a twist of cinnamon. Naturally vegan and gluten-free. \n\nAll popcorn will be available for sale at the event.
URL:https://hazlitt1852.com/event/popcorn-wine-flights-naples/2023-03-12/
LOCATION:Hazlitt Red Cat Cellars\, 1 Lake Niagara Lane\, Naples\, NY\, 14512
ATTACH;FMTTYPE=image/jpeg:https://hazlitt1852.com/wp-content/uploads/2023/03/1920x1005_FBweb_PopWineFlights_HRCC.jpg
END:VEVENT
BEGIN:VEVENT
DTSTART;TZID=America/New_York:20230311T100000
DTEND;TZID=America/New_York:20230311T170000
DTSTAMP:20260423T023742
CREATED:20230302T162815Z
LAST-MODIFIED:20230302T162917Z
UID:10001451-1678528800-1678554000@hazlitt1852.com
SUMMARY:Popcorn & Wine Flights • Hazlitt Red Cat Cellars\, Naples\, NY
DESCRIPTION:Pair your wine/cider/seltzer flight with a $5 FLX Popcorn Co. Sampler featuring: \n\n\n Wine Trail White Cheddar ~ Crisp popcorn coated in sharp white cheddar and perfectly salted. Gluten-free. \n\n\n Canandaigua Cashew ~ Caramel corn adorned with pieces of roasted cashews. Vegan & gluten-free. \n\n\n Honeoye Sweet Heat ~ Perfect combo of sweet & heat. Crisp kettle corn with a pop of Buffalo hot wing flavor. Naturally vegan and gluten-free. \n\n\n Cayuga Cinnamon Sugar ~ Crispy kettle corn with a twist of cinnamon. Naturally vegan and gluten-free. \n\nAll popcorn will be available for sale at the event.
URL:https://hazlitt1852.com/event/popcorn-wine-flights-naples/2023-03-11/
LOCATION:Hazlitt Red Cat Cellars\, 1 Lake Niagara Lane\, Naples\, NY\, 14512
ATTACH;FMTTYPE=image/jpeg:https://hazlitt1852.com/wp-content/uploads/2023/03/1920x1005_FBweb_PopWineFlights_HRCC.jpg
END:VEVENT
BEGIN:VEVENT
DTSTART;TZID=America/New_York:20221204T110000
DTEND;TZID=America/New_York:20221204T170000
DTSTAMP:20260423T023742
CREATED:20221111T215945Z
LAST-MODIFIED:20221111T220237Z
UID:10001448-1670151600-1670173200@hazlitt1852.com
SUMMARY:Red Cats in Santa Hats ""𝘉𝘌𝘕𝘌𝘍𝘐𝘛 𝘞𝘌𝘌𝘒𝘌𝘕𝘋"
DESCRIPTION:EVENT AT HAZLITT RED CAT CELLRARS\, NAPLES\, N.Y.\, 14841 \n𝐇𝐄𝐋𝐏 𝐔𝐒 𝐑𝐀𝐈𝐒𝐄 𝐅𝐔𝐍𝐃𝐒 𝐅𝐎𝐑 𝐎𝐏𝐄𝐑𝐀𝐓𝐈𝐎𝐍 𝐒𝐀𝐍𝐓𝐀!  \n– 𝐆𝐢𝐯𝐞 𝐁𝐚𝐜𝐤 & 𝐇𝐚𝐯𝐞 𝐅𝐮𝐧 𝐀𝐥𝐥 𝗪𝐞𝐞𝐤𝐞𝐧𝐝 𝐋𝐨𝐧𝐠!⁣ (𝘈 𝘱𝘰𝘳𝘵𝘪𝘰𝘯 𝘰𝘧 𝘵𝘩𝘦 𝘸𝘦𝘦𝘬𝘦𝘯𝘥’𝘴 𝘴𝘢𝘭𝘦𝘴 𝘸𝘪𝘭𝘭 𝘣𝘦 𝘥𝘰𝘯𝘢𝘵𝘦𝘥 𝘵𝘰 𝘖𝘱𝘦𝘳𝘢𝘵𝘪𝘰𝘯 𝘚𝘢𝘯𝘵𝘢 𝘪𝘯 𝘕𝘢𝘱𝘭𝘦𝘴.) \n\n\n Receive a Red Cat Santa Hat With Your Purchase! \n\n\n 20% Off Merchandise \n\n\n $1 Off Wine Slushies \n\n\n Photos with Santa & Mrs. Claus  (𝘚𝘢𝘯𝘵𝘢 𝘸𝘪𝘭𝘭 𝘣𝘦 𝘴𝘦𝘢𝘵𝘦𝘥 𝘰𝘯 𝘩𝘪𝘴 𝘳𝘦𝘥 𝘵𝘩𝘳𝘰𝘸𝘯 𝘸𝘪𝘵𝘩 𝘔𝘳𝘴. 𝘊𝘭𝘢𝘶𝘴 𝘯𝘦𝘢𝘳𝘣𝘺. 𝟷 𝘗𝘰𝘭𝘢𝘳𝘰𝘪𝘥 𝘸𝘪𝘭𝘭 𝘣𝘦 𝘱𝘳𝘰𝘷𝘪𝘥𝘦𝘥 𝘱𝘦𝘳 𝘱𝘩𝘰𝘵𝘰 𝘰𝘱𝘱. 𝘊𝘦𝘭𝘭 𝘱𝘩𝘰𝘯𝘦 𝘱𝘪𝘤𝘴 𝘸𝘦𝘭𝘤𝘰𝘮𝘦. 𝘍𝘢𝘮𝘪𝘭𝘺 𝘍𝘳𝘪𝘦𝘯𝘥𝘭𝘺.) \n\n\n Soup & Sip Flights (𝘌𝘯𝘫𝘰𝘺 $𝟼 𝘚𝘰𝘶𝘱 𝘚𝘢𝘮𝘱𝘭𝘦𝘳 𝘸𝘪𝘵𝘩 𝘺𝘰𝘶𝘳 𝘧𝘭𝘪𝘨𝘩𝘵.) \n𝘖𝘱𝘦𝘳𝘢𝘵𝘪𝘰𝘯 𝘚𝘢𝘯𝘵𝘢\, 𝘰𝘳𝘨𝘢𝘯𝘪𝘻𝘦𝘥 𝘣𝘺 𝘕𝘢𝘱𝘭𝘦𝘴 𝘊𝘦𝘯𝘵𝘳𝘢𝘭 𝘚𝘤𝘩𝘰𝘰𝘭 𝘋𝘪𝘴𝘵𝘳𝘪𝘤𝘵\, 𝘤𝘰𝘭𝘭𝘦𝘤𝘵𝘴 𝘨𝘦𝘯𝘦𝘳𝘰𝘶𝘴 𝘥𝘰𝘯𝘢𝘵𝘪𝘰𝘯𝘴 𝘧𝘳𝘰𝘮 𝘭𝘰𝘤𝘢𝘭 𝘣𝘶𝘴𝘪𝘯𝘦𝘴𝘴𝘦𝘴 𝘢𝘯𝘥 𝘤𝘰𝘮𝘮𝘶𝘯𝘪𝘵𝘪𝘦𝘴 𝘢𝘤𝘳𝘰𝘴𝘴 𝘵𝘩𝘦 𝘴𝘵𝘢𝘵𝘦 𝘵𝘰 𝘱𝘳𝘰𝘷𝘪𝘥𝘦 𝘊𝘩𝘳𝘪𝘴𝘵𝘮𝘢𝘴 𝘨𝘪𝘧𝘵𝘴 𝘵𝘰 𝘧𝘢𝘮𝘪𝘭𝘪𝘦𝘴 𝘪𝘯 𝘯𝘦𝘦𝘥 𝘦𝘢𝘤𝘩 𝘩𝘰𝘭𝘪𝘥𝘢𝘺 𝘴𝘦𝘢𝘴𝘰𝘯. \nEVENT AT HAZLITT RED CAT CELLRARS\, NAPLES\, N.Y.\, 14841
URL:https://hazlitt1852.com/event/red-cats-in-santa-hats-%f0%9d%98%89%f0%9d%98%8c%f0%9d%98%95%f0%9d%98%8c%f0%9d%98%8d%f0%9d%98%90%f0%9d%98%9b-%f0%9d%98%9e%f0%9d%98%8c%f0%9d%98%8c%f0%9d%98%92%f0%9d%98%8c%f0%9d%98%95%f0%9d%98%8b/2022-12-04/
LOCATION:Hazlitt Red Cat Cellars\, 1 Lake Niagara Lane\, Naples\, NY\, 14512
ATTACH;FMTTYPE=image/jpeg:https://hazlitt1852.com/wp-content/uploads/2022/11/1920x1005_FBweb_RCSH_COVER.jpg
END:VEVENT
BEGIN:VEVENT
DTSTART;TZID=America/New_York:20221203T100000
DTEND;TZID=America/New_York:20221203T170000
DTSTAMP:20260423T023742
CREATED:20221111T215945Z
LAST-MODIFIED:20221111T220237Z
UID:10001447-1670061600-1670086800@hazlitt1852.com
SUMMARY:Red Cats in Santa Hats ""𝘉𝘌𝘕𝘌𝘍𝘐𝘛 𝘞𝘌𝘌𝘒𝘌𝘕𝘋"
DESCRIPTION:EVENT AT HAZLITT RED CAT CELLRARS\, NAPLES\, N.Y.\, 14841 \n𝐇𝐄𝐋𝐏 𝐔𝐒 𝐑𝐀𝐈𝐒𝐄 𝐅𝐔𝐍𝐃𝐒 𝐅𝐎𝐑 𝐎𝐏𝐄𝐑𝐀𝐓𝐈𝐎𝐍 𝐒𝐀𝐍𝐓𝐀!  \n– 𝐆𝐢𝐯𝐞 𝐁𝐚𝐜𝐤 & 𝐇𝐚𝐯𝐞 𝐅𝐮𝐧 𝐀𝐥𝐥 𝗪𝐞𝐞𝐤𝐞𝐧𝐝 𝐋𝐨𝐧𝐠!⁣ (𝘈 𝘱𝘰𝘳𝘵𝘪𝘰𝘯 𝘰𝘧 𝘵𝘩𝘦 𝘸𝘦𝘦𝘬𝘦𝘯𝘥’𝘴 𝘴𝘢𝘭𝘦𝘴 𝘸𝘪𝘭𝘭 𝘣𝘦 𝘥𝘰𝘯𝘢𝘵𝘦𝘥 𝘵𝘰 𝘖𝘱𝘦𝘳𝘢𝘵𝘪𝘰𝘯 𝘚𝘢𝘯𝘵𝘢 𝘪𝘯 𝘕𝘢𝘱𝘭𝘦𝘴.) \n\n\n Receive a Red Cat Santa Hat With Your Purchase! \n\n\n 20% Off Merchandise \n\n\n $1 Off Wine Slushies \n\n\n Photos with Santa & Mrs. Claus  (𝘚𝘢𝘯𝘵𝘢 𝘸𝘪𝘭𝘭 𝘣𝘦 𝘴𝘦𝘢𝘵𝘦𝘥 𝘰𝘯 𝘩𝘪𝘴 𝘳𝘦𝘥 𝘵𝘩𝘳𝘰𝘸𝘯 𝘸𝘪𝘵𝘩 𝘔𝘳𝘴. 𝘊𝘭𝘢𝘶𝘴 𝘯𝘦𝘢𝘳𝘣𝘺. 𝟷 𝘗𝘰𝘭𝘢𝘳𝘰𝘪𝘥 𝘸𝘪𝘭𝘭 𝘣𝘦 𝘱𝘳𝘰𝘷𝘪𝘥𝘦𝘥 𝘱𝘦𝘳 𝘱𝘩𝘰𝘵𝘰 𝘰𝘱𝘱. 𝘊𝘦𝘭𝘭 𝘱𝘩𝘰𝘯𝘦 𝘱𝘪𝘤𝘴 𝘸𝘦𝘭𝘤𝘰𝘮𝘦. 𝘍𝘢𝘮𝘪𝘭𝘺 𝘍𝘳𝘪𝘦𝘯𝘥𝘭𝘺.) \n\n\n Soup & Sip Flights (𝘌𝘯𝘫𝘰𝘺 $𝟼 𝘚𝘰𝘶𝘱 𝘚𝘢𝘮𝘱𝘭𝘦𝘳 𝘸𝘪𝘵𝘩 𝘺𝘰𝘶𝘳 𝘧𝘭𝘪𝘨𝘩𝘵.) \n𝘖𝘱𝘦𝘳𝘢𝘵𝘪𝘰𝘯 𝘚𝘢𝘯𝘵𝘢\, 𝘰𝘳𝘨𝘢𝘯𝘪𝘻𝘦𝘥 𝘣𝘺 𝘕𝘢𝘱𝘭𝘦𝘴 𝘊𝘦𝘯𝘵𝘳𝘢𝘭 𝘚𝘤𝘩𝘰𝘰𝘭 𝘋𝘪𝘴𝘵𝘳𝘪𝘤𝘵\, 𝘤𝘰𝘭𝘭𝘦𝘤𝘵𝘴 𝘨𝘦𝘯𝘦𝘳𝘰𝘶𝘴 𝘥𝘰𝘯𝘢𝘵𝘪𝘰𝘯𝘴 𝘧𝘳𝘰𝘮 𝘭𝘰𝘤𝘢𝘭 𝘣𝘶𝘴𝘪𝘯𝘦𝘴𝘴𝘦𝘴 𝘢𝘯𝘥 𝘤𝘰𝘮𝘮𝘶𝘯𝘪𝘵𝘪𝘦𝘴 𝘢𝘤𝘳𝘰𝘴𝘴 𝘵𝘩𝘦 𝘴𝘵𝘢𝘵𝘦 𝘵𝘰 𝘱𝘳𝘰𝘷𝘪𝘥𝘦 𝘊𝘩𝘳𝘪𝘴𝘵𝘮𝘢𝘴 𝘨𝘪𝘧𝘵𝘴 𝘵𝘰 𝘧𝘢𝘮𝘪𝘭𝘪𝘦𝘴 𝘪𝘯 𝘯𝘦𝘦𝘥 𝘦𝘢𝘤𝘩 𝘩𝘰𝘭𝘪𝘥𝘢𝘺 𝘴𝘦𝘢𝘴𝘰𝘯. \nEVENT AT HAZLITT RED CAT CELLRARS\, NAPLES\, N.Y.\, 14841
URL:https://hazlitt1852.com/event/red-cats-in-santa-hats-%f0%9d%98%89%f0%9d%98%8c%f0%9d%98%95%f0%9d%98%8c%f0%9d%98%8d%f0%9d%98%90%f0%9d%98%9b-%f0%9d%98%9e%f0%9d%98%8c%f0%9d%98%8c%f0%9d%98%92%f0%9d%98%8c%f0%9d%98%95%f0%9d%98%8b/2022-12-03/
LOCATION:Hazlitt Red Cat Cellars\, 1 Lake Niagara Lane\, Naples\, NY\, 14512
ATTACH;FMTTYPE=image/jpeg:https://hazlitt1852.com/wp-content/uploads/2022/11/1920x1005_FBweb_RCSH_COVER.jpg
END:VEVENT
BEGIN:VEVENT
DTSTART;TZID=America/New_York:20220925T100000
DTEND;TZID=America/New_York:20220925T170000
DTSTAMP:20260423T023742
CREATED:20220913T185359Z
LAST-MODIFIED:20220914T181542Z
UID:10001813-1664100000-1664125200@hazlitt1852.com
SUMMARY:Hazlitt Front Yard Fun @ Naples Grape Festival
DESCRIPTION:10 AM – 5:00 PM \nJoin us at The Naples Grape Festival! We have a fun weekend planned right in our front yard with a courtyard-like area to sit and enjoy some wine\, music\, and the beautiful town of Naples.\n𝐄𝐍𝐉𝐎𝐘:\n• COMPLIMENTARY wine tastings\n• Wine by the glass\n• Wine Slushies\n• Splash Wine Seltzers\n• Cider Tree (hard cider)\n• Beer\n• Food by Blowin’ Smoke BBQ\n• Shopping\n• Live Music:\n| 𝐒𝐀𝐓𝐔𝐑𝐃𝐀𝐘 𝐌𝐔𝐒𝐈𝐂 |\n• 10 AM – 1 PM: Black Robin Band (Rock\, Blues & Pop)\n• 2 PM – 5 PM: The Roll The Dice Band (Blues\, Rock & Classic Rock)\n| 𝐒𝐔𝐍𝐃𝐀𝐘 𝐌𝐔𝐒𝐈𝐂 |\n1 PM – 4 PM: Bad Bear (Classic Rock & Funk)
URL:https://hazlitt1852.com/event/hazlitt-front-yard-fun-naples-grape-fest-22/2022-09-25/
LOCATION:Hazlitt Red Cat Cellars\, 1 Lake Niagara Lane\, Naples\, NY\, 14512
ATTACH;FMTTYPE=image/jpeg:https://hazlitt1852.com/wp-content/uploads/2022/09/HazlittRedCatCellarsFall_building.jpg
END:VEVENT
BEGIN:VEVENT
DTSTART;TZID=America/New_York:20220924T100000
DTEND;TZID=America/New_York:20220924T170000
DTSTAMP:20260423T023742
CREATED:20220913T185359Z
LAST-MODIFIED:20220914T181542Z
UID:10001812-1664013600-1664038800@hazlitt1852.com
SUMMARY:Hazlitt Front Yard Fun @ Naples Grape Festival
DESCRIPTION:10 AM – 5:00 PM \nJoin us at The Naples Grape Festival! We have a fun weekend planned right in our front yard with a courtyard-like area to sit and enjoy some wine\, music\, and the beautiful town of Naples.\n𝐄𝐍𝐉𝐎𝐘:\n• COMPLIMENTARY wine tastings\n• Wine by the glass\n• Wine Slushies\n• Splash Wine Seltzers\n• Cider Tree (hard cider)\n• Beer\n• Food by Blowin’ Smoke BBQ\n• Shopping\n• Live Music:\n| 𝐒𝐀𝐓𝐔𝐑𝐃𝐀𝐘 𝐌𝐔𝐒𝐈𝐂 |\n• 10 AM – 1 PM: Black Robin Band (Rock\, Blues & Pop)\n• 2 PM – 5 PM: The Roll The Dice Band (Blues\, Rock & Classic Rock)\n| 𝐒𝐔𝐍𝐃𝐀𝐘 𝐌𝐔𝐒𝐈𝐂 |\n1 PM – 4 PM: Bad Bear (Classic Rock & Funk)
URL:https://hazlitt1852.com/event/hazlitt-front-yard-fun-naples-grape-fest-22/2022-09-24/
LOCATION:Hazlitt Red Cat Cellars\, 1 Lake Niagara Lane\, Naples\, NY\, 14512
ATTACH;FMTTYPE=image/jpeg:https://hazlitt1852.com/wp-content/uploads/2022/09/HazlittRedCatCellarsFall_building.jpg
END:VEVENT
BEGIN:VEVENT
DTSTART;TZID=America/New_York:20220916T183000
DTEND;TZID=America/New_York:20220916T230000
DTSTAMP:20260423T023742
CREATED:20220902T153101Z
LAST-MODIFIED:20220923T174105Z
UID:10001416-1663353000-1663369200@hazlitt1852.com
SUMMARY:Fireworks Extravaganza- Naples Grape Festival/NCS Homecoming
DESCRIPTION:What: Picnic\, Wine Tastings\, Food Truck @ 6:30pm with Fireworks at 9:00pm (event ends immediately following the fireworks) \nWhere: The lawn in front of Hazlitt Red Cat Cellars on N. Main Street\, Naples\, NY \nCost: FREE for everyone to enjoy \nDetails\nGrab a blanket\, bring some chairs\, and head over with family and friends to Hazlitt’s front lawn and have a picnic. Enjoy dinner out with Finger Lakes Hots Food Truck serving not only hots and hamburgers\, but authentic Filipino and Puerto Rican fusion cuisine. Want a glass of wine? Hazlitt Winery will be there for tastings and wine by the glass! We are working on a few more surprises so stay tuned!  In addition\, we will have available for sale\, Naples Grape Festival 2022 t-shirts and posters designed by Naples’ own and this year’s featured artist\, Darryl Abraham. Visit Naples Grape Festival Website for more details. \n\nThe awe-inspiring sight of multi-colored fireworks exploding in the sky over the village of Naples will stay in your minds forever. Strategically located on the historic Widmer property\, now the home of Hazlitt’s Winery\, the Naples Grape Festival 2022 Fireworks Extravaganza will be seen from all corners of Naples. Residents and guests alike are invited to watch a spectacular show put on by Young Explosives\, sure to impress! Come\, and together we will kick off Naples Grape Festival 2022 and the 2022 Naples Central School homecoming. \n\nAbout Young Explosives\nEstablished in 1949 by Robert Young in Rochester\, NY\, this family-owned business has over 500 shows a year and 200 employees. Young Explosives still hand crafts a few thousand fireworks every year; a tradition of building fireworks which has been passed down from generation to generation.
URL:https://hazlitt1852.com/event/fireworks-extravaganza-naples-grape-festival-ncs-homecoming/
LOCATION:Hazlitt Red Cat Cellars\, 1 Lake Niagara Lane\, Naples\, NY\, 14512
ATTACH;FMTTYPE=image/jpeg:https://hazlitt1852.com/wp-content/uploads/2022/08/NaplesGrapeFestival22FireworksExtravaganza_NaplesGrapeFestsPhoto.jpg
END:VEVENT
BEGIN:VEVENT
DTSTART;TZID=America/New_York:20220813T110000
DTEND;TZID=America/New_York:20220813T173000
DTSTAMP:20260423T023742
CREATED:20220805T173309Z
LAST-MODIFIED:20220805T173309Z
UID:10001415-1660388400-1660411800@hazlitt1852.com
SUMMARY:Treasure Hunt For Adults @ Hazlitt Red Cat Cellars\, Naples\, N.Y.
DESCRIPTION:Be a pirate for a day and join us for a Treasure Hunt for adults Saturday\, August 13\, 2022\, 11 AM – ’til all treasure has been found. \nTreasure bags filled with pirate booty\, fun prizes\, candy\, and deals will be hidden throughout the property. There is even a special treasure bag with a golden ticket for an ultimate Gift Basket! \nCome dressed like a pirate and receive $2 off a flight and a $1 off a slushy. \nWhen you arrive at the winery\, let our Wine Guides know you are here to hunt for treasure and they will give you more details. \n𝐄𝐕𝐄𝐍𝐓 𝐒𝐂𝐇𝐄𝐃𝐔𝐋𝐄\n 𝟏𝟎 𝐀𝐌- 𝟏𝟐 𝐏𝐌: Mimosas ⁣\n 𝟏𝟏 𝐀𝐌 – ‘𝐭𝐢𝐥 𝐟𝐨𝐮𝐧𝐝: Treasure Hunt⁣ \nMust be 21+ years of age to participate. • There is no cost to participate in the treasure hunt.
URL:https://hazlitt1852.com/event/treasure-hunt-for-adults-hazlitt-red-cat-cellars-naples-n-y/
LOCATION:Hazlitt Red Cat Cellars\, 1 Lake Niagara Lane\, Naples\, NY\, 14512
ATTACH;FMTTYPE=image/png:https://hazlitt1852.com/wp-content/uploads/2022/08/HRCC_TreasureHUNT_FacebookCover.png
END:VEVENT
BEGIN:VEVENT
DTSTART;TZID=America/New_York:20220611T100000
DTEND;TZID=America/New_York:20220611T170000
DTSTAMP:20260423T023742
CREATED:20220430T132839Z
LAST-MODIFIED:20220430T132839Z
UID:10001390-1654941600-1654966800@hazlitt1852.com
SUMMARY:Derby Days • Hazlitt Red Cat Cellars\, Naples\, NY
DESCRIPTION:We are getting into the horse race spirit with race-themed drink & food specials May 7\, May 21\, and June 11 at both winery* locations. \n• Wear a Derby Hat and receive $1 off all drinks on each Derby Day! • \nRACE-THEMED FOOD FEATURES: \n5/7/22 • Kentucky Derby\n– Pulled Pork Sandwich $8 \n5/21/22 • Preakness Stakes\n– Black-Eyed Susan Cupcakes $4 \n6/11/22 • Belmont Stakes\n– Soft Pretzel $5 \n*Our Hector\, NY location\, Hazlitt 1852 Vineyards\, will also feature race-themed cocktails.
URL:https://hazlitt1852.com/event/derby-days-hazlitt-red-cat-cellars-naples-ny/2022-06-11/
LOCATION:Hazlitt Red Cat Cellars\, 1 Lake Niagara Lane\, Naples\, NY\, 14512
ATTACH;FMTTYPE=image/png:https://hazlitt1852.com/wp-content/uploads/2022/04/1920x1005_HRCC_Derby_FBweb-copy.png
END:VEVENT
BEGIN:VEVENT
DTSTART;TZID=America/New_York:20220521T100000
DTEND;TZID=America/New_York:20220521T170000
DTSTAMP:20260423T023742
CREATED:20220430T132839Z
LAST-MODIFIED:20220430T132839Z
UID:10001389-1653127200-1653152400@hazlitt1852.com
SUMMARY:Derby Days • Hazlitt Red Cat Cellars\, Naples\, NY
DESCRIPTION:We are getting into the horse race spirit with race-themed drink & food specials May 7\, May 21\, and June 11 at both winery* locations. \n• Wear a Derby Hat and receive $1 off all drinks on each Derby Day! • \nRACE-THEMED FOOD FEATURES: \n5/7/22 • Kentucky Derby\n– Pulled Pork Sandwich $8 \n5/21/22 • Preakness Stakes\n– Black-Eyed Susan Cupcakes $4 \n6/11/22 • Belmont Stakes\n– Soft Pretzel $5 \n*Our Hector\, NY location\, Hazlitt 1852 Vineyards\, will also feature race-themed cocktails.
URL:https://hazlitt1852.com/event/derby-days-hazlitt-red-cat-cellars-naples-ny/2022-05-21/
LOCATION:Hazlitt Red Cat Cellars\, 1 Lake Niagara Lane\, Naples\, NY\, 14512
ATTACH;FMTTYPE=image/png:https://hazlitt1852.com/wp-content/uploads/2022/04/1920x1005_HRCC_Derby_FBweb-copy.png
END:VEVENT
BEGIN:VEVENT
DTSTART;TZID=America/New_York:20220507T100000
DTEND;TZID=America/New_York:20220507T170000
DTSTAMP:20260423T023742
CREATED:20220430T132839Z
LAST-MODIFIED:20220430T132839Z
UID:10001388-1651917600-1651942800@hazlitt1852.com
SUMMARY:Derby Days • Hazlitt Red Cat Cellars\, Naples\, NY
DESCRIPTION:We are getting into the horse race spirit with race-themed drink & food specials May 7\, May 21\, and June 11 at both winery* locations. \n• Wear a Derby Hat and receive $1 off all drinks on each Derby Day! • \nRACE-THEMED FOOD FEATURES: \n5/7/22 • Kentucky Derby\n– Pulled Pork Sandwich $8 \n5/21/22 • Preakness Stakes\n– Black-Eyed Susan Cupcakes $4 \n6/11/22 • Belmont Stakes\n– Soft Pretzel $5 \n*Our Hector\, NY location\, Hazlitt 1852 Vineyards\, will also feature race-themed cocktails.
URL:https://hazlitt1852.com/event/derby-days-hazlitt-red-cat-cellars-naples-ny/2022-05-07/
LOCATION:Hazlitt Red Cat Cellars\, 1 Lake Niagara Lane\, Naples\, NY\, 14512
ATTACH;FMTTYPE=image/png:https://hazlitt1852.com/wp-content/uploads/2022/04/1920x1005_HRCC_Derby_FBweb-copy.png
END:VEVENT
BEGIN:VEVENT
DTSTART;TZID=America/New_York:20220416T130000
DTEND;TZID=America/New_York:20220416T160000
DTSTAMP:20260423T023742
CREATED:20220401T140528Z
LAST-MODIFIED:20220401T202049Z
UID:10001381-1650114000-1650124800@hazlitt1852.com
SUMMARY:Adult Easter Egg Hunt • Naples\, NY
DESCRIPTION:Adult Easter Egg Hunt @ Hazlitt Red Cat Cellars\, Naples\, NY \nJoin us for an Adult Easter Egg Hunt\, Saturday\, April 16th\, 1PM-4PM (or until all eggs have been found). The eggs are filled with fun prizes\, candy\, and deals and will be hidden throughout the property\, inside & outside (weather-permitting). Baskets are available to borrow for your search. \nYou must be 21+ years of age to participate.
URL:https://hazlitt1852.com/event/adult-easter-egg-hunt-naples-ny/
LOCATION:Hazlitt Red Cat Cellars\, 1 Lake Niagara Lane\, Naples\, NY\, 14512
ATTACH;FMTTYPE=image/png:https://hazlitt1852.com/wp-content/uploads/2022/04/HRCC_EggHunt_FacebookCover.png
END:VEVENT
END:VCALENDAR