BEGIN:VCALENDAR
VERSION:2.0
PRODID:-//Hazlitt - ECPv6.15.20//NONSGML v1.0//EN
CALSCALE:GREGORIAN
METHOD:PUBLISH
X-WR-CALNAME:Hazlitt
X-ORIGINAL-URL:https://hazlitt1852.com
X-WR-CALDESC:Events for Hazlitt
REFRESH-INTERVAL;VALUE=DURATION:PT1H
X-Robots-Tag:noindex
X-PUBLISHED-TTL:PT1H
BEGIN:VTIMEZONE
TZID:America/New_York
BEGIN:DAYLIGHT
TZOFFSETFROM:-0500
TZOFFSETTO:-0400
TZNAME:EDT
DTSTART:20220313T070000
END:DAYLIGHT
BEGIN:STANDARD
TZOFFSETFROM:-0400
TZOFFSETTO:-0500
TZNAME:EST
DTSTART:20221106T060000
END:STANDARD
BEGIN:DAYLIGHT
TZOFFSETFROM:-0500
TZOFFSETTO:-0400
TZNAME:EDT
DTSTART:20230312T070000
END:DAYLIGHT
BEGIN:STANDARD
TZOFFSETFROM:-0400
TZOFFSETTO:-0500
TZNAME:EST
DTSTART:20231105T060000
END:STANDARD
BEGIN:DAYLIGHT
TZOFFSETFROM:-0500
TZOFFSETTO:-0400
TZNAME:EDT
DTSTART:20240310T070000
END:DAYLIGHT
BEGIN:STANDARD
TZOFFSETFROM:-0400
TZOFFSETTO:-0500
TZNAME:EST
DTSTART:20241103T060000
END:STANDARD
END:VTIMEZONE
BEGIN:VEVENT
DTSTART;TZID=America/New_York:20230611T140000
DTEND;TZID=America/New_York:20230611T170000
DTSTAMP:20260422T053219
CREATED:20230602T153737Z
LAST-MODIFIED:20230602T153737Z
UID:10001852-1686492000-1686502800@hazlitt1852.com
SUMMARY:Oasis Sunday Music: Trevor Clark
DESCRIPTION:Memorial Day Weekend-Labor Day Weekend\, enjoy live music out in the Oasis every Sunday afternoon. \n2:00 p.m. – 5:00 p.m. \nBand: Trevor Clark | Genre: Foot Stomping Roadhouse Country \nNo Cover • Family Friendly • Wine • Local Snacks • Wine Slushies • Cider Tree • Local Beverages \n 
URL:https://hazlitt1852.com/event/oasis-sunday-live-music-trevor-clark-2/
LOCATION:The Oasis @ Hazlitt 1852 Vineyards\, Hector\, NY
ATTACH;FMTTYPE=image/jpeg:https://hazlitt1852.com/wp-content/uploads/2023/06/TrevorClark2.jpg
END:VEVENT
BEGIN:VEVENT
DTSTART;TZID=America/New_York:20230609T173000
DTEND;TZID=America/New_York:20230609T203000
DTSTAMP:20260422T053219
CREATED:20230427T155235Z
LAST-MODIFIED:20230427T155235Z
UID:10001844-1686331800-1686342600@hazlitt1852.com
SUMMARY:LIVE @ The Oasis: Miller & The Other Sinners Trio
DESCRIPTION:5:30 p.m. – 8:30 p.m. \nJoin us for live music every Friday night May-October at our outdoor bar\, The Oasis. \nBand: Miller & The Other Sinners Trio | Genre: Soul\, Rhythm & Blues \n\n\n\n\n\n\n\nNo Cover • Family Friendly • Wine • Local Snacks • Wine Slushies • Cider Tree • Local Beverages
URL:https://hazlitt1852.com/event/live-music-the-oasis-miller-the-other-sinners-trio/
LOCATION:The Oasis @ Hazlitt 1852 Vineyards\, Hector\, NY
ATTACH;FMTTYPE=image/jpeg:https://hazlitt1852.com/wp-content/uploads/2023/04/MillerandtheOtherSinnersTrio2.jpg
END:VEVENT
BEGIN:VEVENT
DTSTART;TZID=America/New_York:20230604T140000
DTEND;TZID=America/New_York:20230604T170000
DTSTAMP:20260422T053219
CREATED:20230601T194104Z
LAST-MODIFIED:20230602T202002Z
UID:10001851-1685887200-1685898000@hazlitt1852.com
SUMMARY:Oasis Sunday Music: Kevin Ludwig
DESCRIPTION:Memorial Day Weekend-Labor Day Weekend\, enjoy live music out in the Oasis every Sunday afternoon. \n2:00 p.m. – 5:00 p.m. \nBand: Kevin Ludwig | Genre: Foot Stomping Roadhouse Country \nNo Cover • Family Friendly • Wine • Local Snacks • Wine Slushies • Cider Tree • Local Beverages
URL:https://hazlitt1852.com/event/oasis-sunday-live-music-kevin-ludwig/
LOCATION:The Oasis @ Hazlitt 1852 Vineyards\, Hector\, NY
ATTACH;FMTTYPE=image/jpeg:https://hazlitt1852.com/wp-content/uploads/2023/06/KevinLudwig.jpg
END:VEVENT
BEGIN:VEVENT
DTSTART;TZID=America/New_York:20230602T173000
DTEND;TZID=America/New_York:20230602T203000
DTSTAMP:20260422T053219
CREATED:20230427T154850Z
LAST-MODIFIED:20230427T154850Z
UID:10001843-1685727000-1685737800@hazlitt1852.com
SUMMARY:LIVE @ The Oasis: Black Robin Band
DESCRIPTION:5:30 p.m. – 8:30 p.m. \nJoin us for live music every Friday night May-October at our outdoor bar\, The Oasis. \nBand: Black Robin Band | Genre: Funk\, Soul\, Rock & Roll \nNo Cover • Family Friendly • Wine • Local Snacks • Wine Slushies • Cider Tree • Local Beverages
URL:https://hazlitt1852.com/event/live-music-the-oasis-black-robin-band/
LOCATION:The Oasis @ Hazlitt 1852 Vineyards\, Hector\, NY
ATTACH;FMTTYPE=image/jpeg:https://hazlitt1852.com/wp-content/uploads/2023/04/BlackRobinBand1.jpg
END:VEVENT
BEGIN:VEVENT
DTSTART;TZID=America/New_York:20230528T140000
DTEND;TZID=America/New_York:20230528T170000
DTSTAMP:20260422T053219
CREATED:20230526T205813Z
LAST-MODIFIED:20230526T210032Z
UID:10001850-1685282400-1685293200@hazlitt1852.com
SUMMARY:Oasis Sunday Music: Kody & Herren
DESCRIPTION:2:00 p.m. – 5:00 p.m. \nBand: Kody & Herren | Genre: Acoustic Americana \n\nNo Cover • Family Friendly • Wine • Local Snacks • Wine Slushies • Cider Tree • Local
URL:https://hazlitt1852.com/event/oasis-sunday-music-kody-herren/
LOCATION:The Oasis @ Hazlitt 1852 Vineyards\, Hector\, NY
ATTACH;FMTTYPE=image/png:https://hazlitt1852.com/wp-content/uploads/2023/05/KodyandHerren_600px.png
END:VEVENT
BEGIN:VEVENT
DTSTART;TZID=America/New_York:20230526T173000
DTEND;TZID=America/New_York:20230526T203000
DTSTAMP:20260422T053219
CREATED:20230427T153516Z
LAST-MODIFIED:20230427T153516Z
UID:10001842-1685122200-1685133000@hazlitt1852.com
SUMMARY:LIVE @ The Oasis: Blue Eyed Soul
DESCRIPTION:5:30 p.m. – 8:30 p.m. \nJoin us for live music every Friday night May-October at our outdoor bar\, The Oasis. \nBand: Blue Eyed Soul | Genre: Funk\, Soul\, Rock & Roll \nNo Cover • Family Friendly • Wine • Local Snacks • Wine Slushies • Cider Tree • Local Beverages
URL:https://hazlitt1852.com/event/live-music-the-oasis-blue-eyed-soul-2/
LOCATION:The Oasis @ Hazlitt 1852 Vineyards\, Hector\, NY
ATTACH;FMTTYPE=image/jpeg:https://hazlitt1852.com/wp-content/uploads/2023/04/BlueEyedSoul.jpg
END:VEVENT
BEGIN:VEVENT
DTSTART;TZID=America/New_York:20230521T143000
DTEND;TZID=America/New_York:20230521T173000
DTSTAMP:20260422T053219
CREATED:20230516T212919Z
LAST-MODIFIED:20230516T212919Z
UID:10001849-1684679400-1684690200@hazlitt1852.com
SUMMARY:Live @ The Oasis: City Limits
DESCRIPTION:2:30 -5:30 PM \nDon’t miss this special Sunday afternoon live performance by City Limits! \n\n\nCity Limits is a 7-piece band with a horn section that has been taking central New York by storm. Playing music that ranges from Motown to current tunes\, City Limits is a high energy blues-rock-soul ensemble that puts rhythm in your feet and groove in your soul. The band is comprised of seasoned veterans of the Central New York music scene who came together to lift you higher and higher! \nNo Cover • Family Friendly • Wine • Local Snacks • Wine Slushies • Cider Tree • Wine Seltzer • Local Beverages
URL:https://hazlitt1852.com/event/live-music-at-the-oasis-city-limits/
LOCATION:The Oasis @ Hazlitt 1852 Vineyards\, Hector\, NY
ATTACH;FMTTYPE=image/jpeg:https://hazlitt1852.com/wp-content/uploads/2023/05/CityLimits.jpg
END:VEVENT
BEGIN:VEVENT
DTSTART;TZID=America/New_York:20230519T173000
DTEND;TZID=America/New_York:20230519T203000
DTSTAMP:20260422T053219
CREATED:20230427T153144Z
LAST-MODIFIED:20230427T153144Z
UID:10001841-1684517400-1684528200@hazlitt1852.com
SUMMARY:LIVE @ The Oasis: Top Shelf
DESCRIPTION:5:30 p.m. – 8:30 p.m. \nJoin us for live music every Friday night May-October at our outdoor bar\, The Oasis. \nBand: Top Shelf | Genre: Funk & Soul \nNo Cover • Family Friendly • Wine • Local Snacks • Wine Slushies • Cider Tree • Local Beverages
URL:https://hazlitt1852.com/event/live-music-the-oasis-top-shelf-2/
LOCATION:The Oasis @ Hazlitt 1852 Vineyards\, Hector\, NY
ATTACH;FMTTYPE=image/jpeg:https://hazlitt1852.com/wp-content/uploads/2023/04/TopShelf.jpg
END:VEVENT
BEGIN:VEVENT
DTSTART;TZID=America/New_York:20230512T173000
DTEND;TZID=America/New_York:20230512T203000
DTSTAMP:20260422T053219
CREATED:20230427T152152Z
LAST-MODIFIED:20230427T152728Z
UID:10001488-1683912600-1683923400@hazlitt1852.com
SUMMARY:LIVE @ The Oasis: Off the Rails
DESCRIPTION:5:30 p.m. – 8:30 p.m. \nJoin us for live music every Friday night May-October at our outdoor bar\, The Oasis. \nBand: Off The Rails | Genre: Soulful\, Rhythm & Blues \n\n\nNo Cover • Family Friendly • Wine • Local Snacks • Wine Slushies • Cider Tree • Local Beverages
URL:https://hazlitt1852.com/event/live-music-the-oasis-off-the-rails/
LOCATION:The Oasis @ Hazlitt 1852 Vineyards\, Hector\, NY
ATTACH;FMTTYPE=image/jpeg:https://hazlitt1852.com/wp-content/uploads/2023/04/OffTheRails.jpg
END:VEVENT
BEGIN:VEVENT
DTSTART;TZID=America/New_York:20230505T173000
DTEND;TZID=America/New_York:20230505T203000
DTSTAMP:20260422T053219
CREATED:20230427T151754Z
LAST-MODIFIED:20230427T151754Z
UID:10001487-1683307800-1683318600@hazlitt1852.com
SUMMARY:LIVE @ The Oasis: YETSU
DESCRIPTION:5:30 p.m. – 8:30 p.m. \nJoin us for live music every Friday night May-October at our outdoor bar\, The Oasis. \nBand: YETSU | Genre: Blues\, Roots\, Rock & Roll \n\nNo Cover • Family Friendly • Wine • Local Snacks • Wine Slushies • Cider Tree • Local Beverages
URL:https://hazlitt1852.com/event/live-music-the-oasis-yetsu/
LOCATION:The Oasis @ Hazlitt 1852 Vineyards\, Hector\, NY
ATTACH;FMTTYPE=image/jpeg:https://hazlitt1852.com/wp-content/uploads/2023/04/YETSU.jpg
END:VEVENT
BEGIN:VEVENT
DTSTART;TZID=America/New_York:20230429T130000
DTEND;TZID=America/New_York:20230429T160000
DTSTAMP:20260422T053219
CREATED:20230428T161921Z
LAST-MODIFIED:20230428T161921Z
UID:10001848-1682773200-1682784000@hazlitt1852.com
SUMMARY:Oasis Winter Music Series: Black Robin Band
DESCRIPTION:1:00 p.m. – 4:00 p.m. \nThe winter music series is back! Join us in the (heated) Oasis for live music every Saturday afternoon\, November-April. \nBand: Black Robin Band | Genre: Rock\, Blues & Pop \nNo Cover • Family Friendly • Wine • Local Snacks • Wine Slushies • Splash Wine Seltzers • Cider Tree • Local Beverages
URL:https://hazlitt1852.com/event/oasis-winter-live-music-series-black-robin-band/
LOCATION:The Oasis @ Hazlitt 1852 Vineyards\, Hector\, NY
ATTACH;FMTTYPE=image/jpeg:https://hazlitt1852.com/wp-content/uploads/2023/04/IMG_6151_BlackRobinBand-scaled.jpg
END:VEVENT
BEGIN:VEVENT
DTSTART;TZID=America/New_York:20230429T130000
DTEND;TZID=America/New_York:20230429T160000
DTSTAMP:20260422T053219
CREATED:20220930T211234Z
LAST-MODIFIED:20230428T133139Z
UID:10001824-1682773200-1682784000@hazlitt1852.com
SUMMARY:• CANCELD • Oasis Winter Music Series: Rebecca & The Soul Shakers
DESCRIPTION:• CANCELED •\nThe winter music series is back! Join us in the (heated) Oasis for live music every Saturday afternoon\, November-April. \n1:00 p.m. – 4:00 p.m. \nBand: Rebecca & The Soul Shakers | Genre: Soul\, Rock & Alternative Country \nNo Cover • Family Friendly • Wine • Local Snacks • Wine Slushies • Splash Wine Seltzers • Cider Tree • Local Beverages
URL:https://hazlitt1852.com/event/live-music-oasis-winter-music-series-rebecca-the-soul-shakers/
LOCATION:The Oasis @ Hazlitt 1852 Vineyards\, Hector\, NY
ATTACH;FMTTYPE=image/png:https://hazlitt1852.com/wp-content/uploads/2022/09/Canceled_RebeccaSoulShakers-1.png
END:VEVENT
BEGIN:VEVENT
DTSTART;TZID=America/New_York:20230422T130000
DTEND;TZID=America/New_York:20230422T160000
DTSTAMP:20260422T053219
CREATED:20220930T211045Z
LAST-MODIFIED:20220930T211045Z
UID:10001823-1682168400-1682179200@hazlitt1852.com
SUMMARY:Oasis Winter Music Series: The Dart Brothers
DESCRIPTION:The winter music series is back! Join us in the (heated) Oasis for live music every Saturday afternoon\, November-April. \n1:00 p.m. – 4:00 p.m. \nBand: The Dart Brothers | Genre: Original Alternative Rock \nNo Cover • Family Friendly • Wine • Local Snacks • Wine Slushies • Splash Wine Seltzers • Cider Tree • Local Beverages
URL:https://hazlitt1852.com/event/live-music-oasis-winter-music-series-the-dart-brothers/
LOCATION:The Oasis @ Hazlitt 1852 Vineyards\, Hector\, NY
ATTACH;FMTTYPE=image/jpeg:https://hazlitt1852.com/wp-content/uploads/2022/09/thedartbrothers.jpg
END:VEVENT
BEGIN:VEVENT
DTSTART;TZID=America/New_York:20230415T130000
DTEND;TZID=America/New_York:20230415T160000
DTSTAMP:20260422T053219
CREATED:20220930T210849Z
LAST-MODIFIED:20220930T210849Z
UID:10001822-1681563600-1681574400@hazlitt1852.com
SUMMARY:Oasis Winter Music Series: The Variables
DESCRIPTION:The winter music series is back! Join us in the (heated) Oasis for live music every Saturday afternoon\, November-April. \n1:00 p.m. – 4:00 p.m. \nBand: The Variables | Genre: Classic Rock \nNo Cover • Family Friendly • Wine • Local Snacks • Wine Slushies • Splash Wine Seltzers • Cider Tree • Local Beverages
URL:https://hazlitt1852.com/event/live-music-oasis-winter-music-series-the-variables/
LOCATION:The Oasis @ Hazlitt 1852 Vineyards\, Hector\, NY
ATTACH;FMTTYPE=image/jpeg:https://hazlitt1852.com/wp-content/uploads/2022/09/TheVariables.jpg
END:VEVENT
BEGIN:VEVENT
DTSTART;TZID=America/New_York:20230408T130000
DTEND;TZID=America/New_York:20230408T160000
DTSTAMP:20260422T053219
CREATED:20220930T210650Z
LAST-MODIFIED:20220930T210650Z
UID:10001821-1680958800-1680969600@hazlitt1852.com
SUMMARY:Oasis Winter Music Series: Cass & The Bailout Crew
DESCRIPTION:The winter music series is back! Join us in the (heated) Oasis for live music every Saturday afternoon\, November-April. \n1:00 p.m. – 4:00 p.m. \nBand: Cass & The Bailout Crew | Genre: Rock\, Pop & Country \nNo Cover • Family Friendly • Wine • Local Snacks • Wine Slushies • Splash Wine Seltzers • Cider Tree • Local Beverages
URL:https://hazlitt1852.com/event/live-music-oasis-winter-music-series-cass-the-bailout-crew/
LOCATION:The Oasis @ Hazlitt 1852 Vineyards\, Hector\, NY
ATTACH;FMTTYPE=image/jpeg:https://hazlitt1852.com/wp-content/uploads/2022/08/CassandBailoutCrew_WinterSaturdays2022.jpg
END:VEVENT
BEGIN:VEVENT
DTSTART;TZID=America/New_York:20230401T130000
DTEND;TZID=America/New_York:20230401T160000
DTSTAMP:20260422T053219
CREATED:20220930T210459Z
LAST-MODIFIED:20220930T210459Z
UID:10001820-1680354000-1680364800@hazlitt1852.com
SUMMARY:Oasis Winter Music Series: Bad Bear
DESCRIPTION:The winter music series is back! Join us in the (heated) Oasis for live music every Saturday afternoon\, November-April. \n1:00 p.m. – 4:00 p.m. \nBand: Bad Bear | Genre: Classic Rock/Funk \nNo Cover • Family Friendly • Wine • Local Snacks • Wine Slushies • Splash Wine Seltzers • Cider Tree • Local Beverages
URL:https://hazlitt1852.com/event/live-music-oasis-winter-music-series-bad-bear/
LOCATION:The Oasis @ Hazlitt 1852 Vineyards\, Hector\, NY
ATTACH;FMTTYPE=image/jpeg:https://hazlitt1852.com/wp-content/uploads/2022/09/BadBear.jpg
END:VEVENT
BEGIN:VEVENT
DTSTART;TZID=America/New_York:20230325T130000
DTEND;TZID=America/New_York:20230325T160000
DTSTAMP:20260422T053219
CREATED:20220930T210300Z
LAST-MODIFIED:20220930T210300Z
UID:10001819-1679749200-1679760000@hazlitt1852.com
SUMMARY:Oasis Winter Music Series: The Ampersand Project
DESCRIPTION:The winter music series is back! Join us in the (heated) Oasis for live music every Saturday afternoon\, November-April. \n1:00 p.m. – 4:00 p.m. \nBand: The Ampersand Project | Genre: Acoustic Rock\, Pop & Country \nNo Cover • Family Friendly • Wine • Local Snacks • Wine Slushies • Splash Wine Seltzers • Cider Tree • Local Beverages
URL:https://hazlitt1852.com/event/live-music-oasis-winter-music-series-the-ampersand-project/
LOCATION:The Oasis @ Hazlitt 1852 Vineyards\, Hector\, NY
ATTACH;FMTTYPE=image/jpeg:https://hazlitt1852.com/wp-content/uploads/2022/09/TheAmpersandProject.jpg
END:VEVENT
BEGIN:VEVENT
DTSTART;TZID=America/New_York:20230318T170000
DTEND;TZID=America/New_York:20230318T200000
DTSTAMP:20260422T053219
CREATED:20230224T200558Z
LAST-MODIFIED:20230224T200558Z
UID:10001838-1679158800-1679169600@hazlitt1852.com
SUMMARY:🍀 Oasis Winter Music Series: Kilrush 🍀
DESCRIPTION:Adding some more fun to the St. Patrick’s Day weekend with live music by the Celtic Rock band\, Kilrush! \n5:00 p.m. – 8:00 p.m. \nGreen Wine Slushies & Irish-themed snack menu will be available throughout the day. \nNo Cover • Family Friendly • Wine • Local Snacks • Wine Slushies • Splash Wine Seltzers • Cider Tree • Local Beverages
URL:https://hazlitt1852.com/event/oasis-winter-music-series-kilrush/
LOCATION:The Oasis @ Hazlitt 1852 Vineyards\, Hector\, NY
ATTACH;FMTTYPE=image/jpeg:https://hazlitt1852.com/wp-content/uploads/2023/02/KilRuh2.jpg
END:VEVENT
BEGIN:VEVENT
DTSTART;TZID=America/New_York:20230318T130000
DTEND;TZID=America/New_York:20230318T160000
DTSTAMP:20260422T053219
CREATED:20220930T210058Z
LAST-MODIFIED:20220930T210058Z
UID:10001818-1679144400-1679155200@hazlitt1852.com
SUMMARY:Oasis Winter Music Series: Virgil Cain
DESCRIPTION:The winter music series is back! Join us in the (heated) Oasis for live music every Saturday afternoon\, November-April. \n1:00 p.m. – 4:00 p.m. \nBand: Virgil Cain | Genre: Pop & Classic Hits \nNo Cover • Family Friendly • Wine • Local Snacks • Wine Slushies • Splash Wine Seltzers • Cider Tree • Local Beverages
URL:https://hazlitt1852.com/event/live-music-oasis-winter-music-series-virgil-cain/
LOCATION:The Oasis @ Hazlitt 1852 Vineyards\, Hector\, NY
ATTACH;FMTTYPE=image/jpeg:https://hazlitt1852.com/wp-content/uploads/2022/09/VirgilCain.jpg
END:VEVENT
BEGIN:VEVENT
DTSTART;TZID=America/New_York:20230311T130000
DTEND;TZID=America/New_York:20230311T160000
DTSTAMP:20260422T053219
CREATED:20220930T205842Z
LAST-MODIFIED:20220930T205842Z
UID:10001433-1678539600-1678550400@hazlitt1852.com
SUMMARY:Oasis Winter Music Series: City Limits
DESCRIPTION:The winter music series is back! Join us in the (heated) Oasis for live music every Saturday afternoon\, November-April. \n1:00 p.m. – 4:00 p.m. \nBand: City Limits | Genre: Blues\, Funk/Rock \nNo Cover • Family Friendly • Wine • Local Snacks • Wine Slushies • Splash Wine Seltzers • Cider Tree • Local Beverages
URL:https://hazlitt1852.com/event/live-music-oasis-winter-music-series-city-limits/
LOCATION:The Oasis @ Hazlitt 1852 Vineyards\, Hector\, NY
ATTACH;FMTTYPE=image/jpeg:https://hazlitt1852.com/wp-content/uploads/2022/03/CityLimits_WinterSaturdays2022.jpg
END:VEVENT
BEGIN:VEVENT
DTSTART;TZID=America/New_York:20230304T130000
DTEND;TZID=America/New_York:20230304T160000
DTSTAMP:20260422T053219
CREATED:20220930T205643Z
LAST-MODIFIED:20220930T205643Z
UID:10001432-1677934800-1677945600@hazlitt1852.com
SUMMARY:Oasis Winter Music Series: Robin Burnett & A Band
DESCRIPTION:The winter music series is back! Join us in the (heated) Oasis for live music every Saturday afternoon\, November-April. \n1:00 p.m. – 4:00 p.m. \nBand: Robin Burnett & A Band | Genre: Rock\, Pop\, Soul \nNo Cover • Family Friendly • Wine • Local Snacks • Wine Slushies • Splash Wine Seltzers • Cider Tree • Local Beverages
URL:https://hazlitt1852.com/event/live-music-oasis-winter-music-series-robin-burnett-a-band/
LOCATION:The Oasis @ Hazlitt 1852 Vineyards\, Hector\, NY
ATTACH;FMTTYPE=image/jpeg:https://hazlitt1852.com/wp-content/uploads/2022/08/RobinBurnettandABand2022.jpg
END:VEVENT
BEGIN:VEVENT
DTSTART;TZID=America/New_York:20230225T130000
DTEND;TZID=America/New_York:20230225T160000
DTSTAMP:20260422T053219
CREATED:20221028T185722Z
LAST-MODIFIED:20221028T185722Z
UID:10001435-1677330000-1677340800@hazlitt1852.com
SUMMARY:Oasis Winter Music Series: Backtalk feat. Hannah Martin
DESCRIPTION:The winter music series is back! Join us in the (heated) Oasis for live music every Saturday afternoon\, November-April. \n1:00 p.m. – 4:00 p.m. \nBand: Backtalk feat. Hannah Martin | Genre: Classic Rock \nNo Cover • Family Friendly • Wine • Local Snacks • Wine Slushies • Splash Wine Seltzers • Cider Tree • Local Beverages
URL:https://hazlitt1852.com/event/live-oasis-winter-music-series-backtalk-feat-hannah-martin/
LOCATION:The Oasis @ Hazlitt 1852 Vineyards\, Hector\, NY
ATTACH;FMTTYPE=image/jpeg:https://hazlitt1852.com/wp-content/uploads/2022/08/BackTalkBandFeatHannahMartin.jpg
END:VEVENT
BEGIN:VEVENT
DTSTART;TZID=America/New_York:20230218T130000
DTEND;TZID=America/New_York:20230218T160000
DTSTAMP:20260422T053219
CREATED:20220930T205449Z
LAST-MODIFIED:20220930T205449Z
UID:10001431-1676725200-1676736000@hazlitt1852.com
SUMMARY:Oasis Winter Music Series: Telephone Party
DESCRIPTION:The winter music series is back! Join us in the (heated) Oasis for live music every Saturday afternoon\, November-April. \n1:00 p.m. – 4:00 p.m. \nBand: Telephone Party | Genre: Danceable Pop & Mellow Soul \nNo Cover • Family Friendly • Wine • Local Snacks • Wine Slushies • Splash Wine Seltzers • Cider Tree • Local Beverages
URL:https://hazlitt1852.com/event/live-music-oasis-winter-music-series-telephone-party/
LOCATION:The Oasis @ Hazlitt 1852 Vineyards\, Hector\, NY
ATTACH;FMTTYPE=image/jpeg:https://hazlitt1852.com/wp-content/uploads/2022/09/TelephoneParty_WinterSaturdays2022.jpg
END:VEVENT
BEGIN:VEVENT
DTSTART;TZID=America/New_York:20230211T130000
DTEND;TZID=America/New_York:20230211T160000
DTSTAMP:20260422T053219
CREATED:20220930T205150Z
LAST-MODIFIED:20220930T205150Z
UID:10001430-1676120400-1676131200@hazlitt1852.com
SUMMARY:Oasis Winter Music Series: StratCat Willie and the Strays
DESCRIPTION:The winter music series is back! Join us in the (heated) Oasis for live music every Saturday afternoon\, November-April. \n1:00 p.m. – 4:00 p.m. \nBand: StratCat Willie and the Strays | Genre: Blues \nNo Cover • Family Friendly • Wine • Local Snacks • Wine Slushies • Splash Wine Seltzers • Cider Tree • Local Beverages
URL:https://hazlitt1852.com/event/live-music-oasis-winter-music-series-stratcat-willie-and-the-strays/
LOCATION:The Oasis @ Hazlitt 1852 Vineyards\, Hector\, NY
ATTACH;FMTTYPE=image/jpeg:https://hazlitt1852.com/wp-content/uploads/2022/09/StratCatWillieandtheStrays.jpg
END:VEVENT
BEGIN:VEVENT
DTSTART;TZID=America/New_York:20230204T130000
DTEND;TZID=America/New_York:20230204T160000
DTSTAMP:20260422T053219
CREATED:20220930T203406Z
LAST-MODIFIED:20220930T203406Z
UID:10001429-1675515600-1675526400@hazlitt1852.com
SUMMARY:Oasis Winter Music Series: Logan Route
DESCRIPTION:The winter music series is back! Join us in the (heated) Oasis for live music every Saturday afternoon\, November-April. \n1:00 p.m. – 4:00 p.m. \nBand: Logan Route | Genre: Country \nNo Cover • Family Friendly • Wine • Local Snacks • Wine Slushies • Splash Wine Seltzers • Cider Tree • Local Beverages
URL:https://hazlitt1852.com/event/live-music-oasis-winter-music-series-logan-route/
LOCATION:The Oasis @ Hazlitt 1852 Vineyards\, Hector\, NY
ATTACH;FMTTYPE=image/jpeg:https://hazlitt1852.com/wp-content/uploads/2022/09/LoganRoute.jpg
END:VEVENT
BEGIN:VEVENT
DTSTART;TZID=America/New_York:20230128T130000
DTEND;TZID=America/New_York:20230128T160000
DTSTAMP:20260422T053219
CREATED:20221019T193819Z
LAST-MODIFIED:20221019T193819Z
UID:10001827-1674910800-1674921600@hazlitt1852.com
SUMMARY:Oasis Winter Music Series: Evan Dillon
DESCRIPTION:The winter music series is back! Join us in the (heated) Oasis for live music every Saturday afternoon\, November-April. \n1:00 p.m. – 4:00 p.m. \nBand: Evan Dillon | Genre: Originals & Rock \nNo Cover • Family Friendly • Wine • Local Snacks • Wine Slushies • Splash Wine Seltzers • Cider Tree • Local Beverages
URL:https://hazlitt1852.com/event/live-oasis-winter-music-series-evan-dillon/
LOCATION:The Oasis @ Hazlitt 1852 Vineyards\, Hector\, NY
ATTACH;FMTTYPE=image/png:https://hazlitt1852.com/wp-content/uploads/2022/10/EvanDillon_400pxW.png
END:VEVENT
BEGIN:VEVENT
DTSTART;TZID=America/New_York:20230121T130000
DTEND;TZID=America/New_York:20230121T160000
DTSTAMP:20260422T053219
CREATED:20220930T203142Z
LAST-MODIFIED:20220930T203142Z
UID:10001428-1674306000-1674316800@hazlitt1852.com
SUMMARY:Oasis Winter Music Series: Joe Lule
DESCRIPTION:The winter music series is back! Join us in the (heated) Oasis for live music every Saturday afternoon\, November-April. \n1:00 p.m. – 4:00 p.m. \nBand: Joe Lule | Genre: Americana\, Folk\, Blues\, Country
URL:https://hazlitt1852.com/event/live-music-oasis-winter-music-series-joe-lule/
LOCATION:The Oasis @ Hazlitt 1852 Vineyards\, Hector\, NY
ATTACH;FMTTYPE=image/jpeg:https://hazlitt1852.com/wp-content/uploads/2022/09/JoeLule.jpg
END:VEVENT
BEGIN:VEVENT
DTSTART;TZID=America/New_York:20230114T130000
DTEND;TZID=America/New_York:20230114T160000
DTSTAMP:20260422T053219
CREATED:20220930T202916Z
LAST-MODIFIED:20220930T202916Z
UID:10001427-1673701200-1673712000@hazlitt1852.com
SUMMARY:Oasis Winter Music Series: Brian Hughes
DESCRIPTION:The winter music series is back! Join us in the (heated) Oasis for live music every Saturday afternoon\, November-April. \n1:00 p.m. – 4:00 p.m. \nBand: Brian Hughes | Genre: Acoustic Rock & Country \nNo Cover • Family Friendly • Wine • Local Snacks • Wine Slushies • Splash Wine Seltzers • Cider Tree • Local Beverages
URL:https://hazlitt1852.com/event/live-music-oasis-winter-music-series-brian-hughes/
LOCATION:The Oasis @ Hazlitt 1852 Vineyards\, Hector\, NY
ATTACH;FMTTYPE=image/jpeg:https://hazlitt1852.com/wp-content/uploads/2022/09/BrianHughes.jpg
END:VEVENT
BEGIN:VEVENT
DTSTART;TZID=America/New_York:20230107T130000
DTEND;TZID=America/New_York:20230107T160000
DTSTAMP:20260422T053219
CREATED:20230106T191947Z
LAST-MODIFIED:20230106T191947Z
UID:10001831-1673096400-1673107200@hazlitt1852.com
SUMMARY:Oasis Winter Music Series: Ben Borkowski
DESCRIPTION:The winter music series is back! Join us in the (heated) Oasis for live music every Saturday afternoon\, November-April. \n1:00 p.m. – 4:00 p.m. \nBand: Ben Borkowski | Genre: Soulful \nNo Cover • Family Friendly • Wine • Local Snacks • Wine Slushies • Splash Wine Seltzers • Cider Tree • Local Beverages
URL:https://hazlitt1852.com/event/live-music-oasis-winter-music-series-ben-borkowski/
LOCATION:The Oasis @ Hazlitt 1852 Vineyards\, Hector\, NY
ATTACH;FMTTYPE=image/jpeg:https://hazlitt1852.com/wp-content/uploads/2023/01/BenBorkowski.jpg
END:VEVENT
BEGIN:VEVENT
DTSTART;TZID=America/New_York:20230107T130000
DTEND;TZID=America/New_York:20230107T160000
DTSTAMP:20260422T053219
CREATED:20220930T202612Z
LAST-MODIFIED:20230105T191531Z
UID:10001426-1673096400-1673107200@hazlitt1852.com
SUMMARY:• CANCELED • Oasis Winter Music Series: Jaimie Lee
DESCRIPTION:The winter music series is back! Join us in the (heated) Oasis for live music every Saturday afternoon\, November-April. \n1:00 p.m. – 4:00 p.m. \nBand: Jaimie Lee | Genre: Americana\, Folk\, Pop-vibe \nNo Cover • Family Friendly • Wine • Local Snacks • Wine Slushies • Splash Wine Seltzers • Cider Tree • Local Beverages
URL:https://hazlitt1852.com/event/live-music-oasis-winter-music-series-jaimie-lee/
LOCATION:The Oasis @ Hazlitt 1852 Vineyards\, Hector\, NY
ATTACH;FMTTYPE=image/png:https://hazlitt1852.com/wp-content/uploads/2022/09/EVENT-CANCELED-JaimieLee.png
END:VEVENT
END:VCALENDAR