BEGIN:VCALENDAR
VERSION:2.0
PRODID:-//Hazlitt - ECPv6.15.20//NONSGML v1.0//EN
CALSCALE:GREGORIAN
METHOD:PUBLISH
X-ORIGINAL-URL:https://hazlitt1852.com
X-WR-CALDESC:Events for Hazlitt
REFRESH-INTERVAL;VALUE=DURATION:PT1H
X-Robots-Tag:noindex
X-PUBLISHED-TTL:PT1H
BEGIN:VTIMEZONE
TZID:America/New_York
BEGIN:DAYLIGHT
TZOFFSETFROM:-0500
TZOFFSETTO:-0400
TZNAME:EDT
DTSTART:20210314T070000
END:DAYLIGHT
BEGIN:STANDARD
TZOFFSETFROM:-0400
TZOFFSETTO:-0500
TZNAME:EST
DTSTART:20211107T060000
END:STANDARD
BEGIN:DAYLIGHT
TZOFFSETFROM:-0500
TZOFFSETTO:-0400
TZNAME:EDT
DTSTART:20220313T070000
END:DAYLIGHT
BEGIN:STANDARD
TZOFFSETFROM:-0400
TZOFFSETTO:-0500
TZNAME:EST
DTSTART:20221106T060000
END:STANDARD
BEGIN:DAYLIGHT
TZOFFSETFROM:-0500
TZOFFSETTO:-0400
TZNAME:EDT
DTSTART:20230312T070000
END:DAYLIGHT
BEGIN:STANDARD
TZOFFSETFROM:-0400
TZOFFSETTO:-0500
TZNAME:EST
DTSTART:20231105T060000
END:STANDARD
END:VTIMEZONE
BEGIN:VEVENT
DTSTART;TZID=America/New_York:20220910T140000
DTEND;TZID=America/New_York:20220910T170000
DTSTAMP:20260422T124622
CREATED:20220901T203930Z
LAST-MODIFIED:20220901T203930Z
UID:10001809-1662818400-1662829200@hazlitt1852.com
SUMMARY:Red Cat's Fall Splash Bash Dance Parties
DESCRIPTION:2:00 – 5:00 PM \n\nRed Cat is throwing a Fall Splash Bash Dance Party! \n\nDJ’s will be spinnin’ dance music at the outdoor Oasis Bar: \n\n\n9/10/22 –  DJ S. Wright\n 10/29 – New Era     HALLOWEEN THEME. COSTUMES WELCOME! \n\nFeaturing Splash Wine Seltzers Tastings • Appearances by Red Cat • $1 off Red Cat Wine Slushies!
URL:https://hazlitt1852.com/event/red-cats-fall-splash-bash-dance-parties/
LOCATION:The Oasis @ Hazlitt 1852 Vineyards\, Hector\, NY
ATTACH;FMTTYPE=image/png:https://hazlitt1852.com/wp-content/uploads/2022/09/1920x1005_FBweb_SPLASHbashCOVER.png
END:VEVENT
BEGIN:VEVENT
DTSTART;TZID=America/New_York:20220909T173000
DTEND;TZID=America/New_York:20220909T203000
DTSTAMP:20260422T124622
CREATED:20220830T194245Z
LAST-MODIFIED:20220830T194245Z
UID:10001418-1662744600-1662755400@hazlitt1852.com
SUMMARY:LIVE @ The Oasis: Black Robin Band
DESCRIPTION:Enjoy an evening of live music\, great wines\, and great times at the Oasis! \n5:30 PM – 8:30 PM \nBand: Black Robin Band | Genre: Rock\, Blues & Pop \nNo Cover • Family Friendly • Wine • Local Snacks • Wine Slushies • Cider Tree • Local Beverages
URL:https://hazlitt1852.com/event/live-music-at-the-oasis-black-robin-band/
LOCATION:The Oasis @ Hazlitt 1852 Vineyards\, Hector\, NY
ATTACH;FMTTYPE=image/jpeg:https://hazlitt1852.com/wp-content/uploads/2022/08/BlackRobbinBand.jpg
END:VEVENT
BEGIN:VEVENT
DTSTART;TZID=America/New_York:20220908T180000
DTEND;TZID=America/New_York:20220908T203000
DTSTAMP:20260422T124622
CREATED:20220628T140824Z
LAST-MODIFIED:20220628T140824Z
UID:10001770-1662660000-1662669000@hazlitt1852.com
SUMMARY:Open Mic Night @ The Oasis
DESCRIPTION:Musicians and Comedians of all experience levels are welcome to join in on the fun. Grab your instrument and bring your talent! \n\nThe Oasis outdoor bar will be open. Check out https://bit.ly/HazlittOasis for Food & Drink Menus.
URL:https://hazlitt1852.com/event/open-mic-night-the-oasis-9-8-22/
LOCATION:The Oasis @ Hazlitt 1852 Vineyards\, Hector\, NY
ATTACH;FMTTYPE=image/jpeg:https://hazlitt1852.com/wp-content/uploads/2022/06/OpenMicNight2_TravJeffOnly.jpg
END:VEVENT
BEGIN:VEVENT
DTSTART;TZID=America/New_York:20220904T140000
DTEND;TZID=America/New_York:20220904T170000
DTSTAMP:20260422T124622
CREATED:20220523T204747Z
LAST-MODIFIED:20220523T204747Z
UID:10001403-1662300000-1662310800@hazlitt1852.com
SUMMARY:Oasis Sunday Music: Two Horse Johnson
DESCRIPTION:Memorial Day Weekend-Labor Day Weekend\, enjoy live music out in the Oasis every Sunday afternoon. \n2:00 p.m. – 5:00 p.m. \nBand: Two Horse Johnson | Genre: Folk Originals & Blues \nNo Cover • Family Friendly • Wine • Local Snacks • Wine Slushies • Cider Tree • Local Beverages
URL:https://hazlitt1852.com/event/oasis-sunday-live-music-two-horse-johnson/
LOCATION:The Oasis @ Hazlitt 1852 Vineyards\, Hector\, NY
ATTACH;FMTTYPE=image/jpeg:https://hazlitt1852.com/wp-content/uploads/2022/05/TwoHorseJohnson.jpg
END:VEVENT
BEGIN:VEVENT
DTSTART;TZID=America/New_York:20220902T173000
DTEND;TZID=America/New_York:20220902T203000
DTSTAMP:20260422T124622
CREATED:20220830T193449Z
LAST-MODIFIED:20220830T193449Z
UID:10001417-1662139800-1662150600@hazlitt1852.com
SUMMARY:Live @ The Oasis: Two for the Road
DESCRIPTION:Enjoy an evening of live music\, great wines\, and great times at the Oasis! \n5:30 PM – 8:30 PM \nBand: Two for the Road | Genre: Folk & Classic Rock \nNo Cover • Family Friendly • Wine • Local Snacks • Wine Slushies • Cider Tree • Local Beverages
URL:https://hazlitt1852.com/event/live-music-at0the-oasis-two-for-the-road/
LOCATION:The Oasis @ Hazlitt 1852 Vineyards\, Hector\, NY
ATTACH;FMTTYPE=image/jpeg:https://hazlitt1852.com/wp-content/uploads/2022/08/TwofortheRoadBand_allmembersbeforeedit.jpg
END:VEVENT
BEGIN:VEVENT
DTSTART;TZID=America/New_York:20220901T180000
DTEND;TZID=America/New_York:20220901T203000
DTSTAMP:20260422T124622
CREATED:20220628T140631Z
LAST-MODIFIED:20220628T140925Z
UID:10001769-1662055200-1662064200@hazlitt1852.com
SUMMARY:Open Mic Night @ The Oasis
DESCRIPTION:Musicians and Comedians of all experience levels are welcome to join in on the fun. Grab your instrument and bring your talent! \n\nThe Oasis outdoor bar will be open. Check out https://bit.ly/HazlittOasis for Food & Drink Menus.
URL:https://hazlitt1852.com/event/open-mic-night-the-oasis-9-1-22/
LOCATION:The Oasis @ Hazlitt 1852 Vineyards\, Hector\, NY
ATTACH;FMTTYPE=image/jpeg:https://hazlitt1852.com/wp-content/uploads/2022/06/OpenMicNight2_TravJeffOnly.jpg
END:VEVENT
BEGIN:VEVENT
DTSTART;TZID=America/New_York:20220828T140000
DTEND;TZID=America/New_York:20220828T170000
DTSTAMP:20260422T124622
CREATED:20220523T204402Z
LAST-MODIFIED:20220523T204402Z
UID:10001402-1661695200-1661706000@hazlitt1852.com
SUMMARY:Oasis Sunday Music: Bob & Dee
DESCRIPTION:Memorial Day Weekend-Labor Day Weekend\, enjoy live music out in the Oasis every Sunday afternoon. \n2:00 p.m. – 5:00 p.m. \nBand: Bob & Dee | Genre: Americana\, Folk\, & Rock \nNo Cover • Family Friendly • Wine • Local Snacks • Wine Slushies • Cider Tree • Local Beverages
URL:https://hazlitt1852.com/event/oasis-sunday-live-music-bob-dee/
LOCATION:The Oasis @ Hazlitt 1852 Vineyards\, Hector\, NY
ATTACH;FMTTYPE=image/jpeg:https://hazlitt1852.com/wp-content/uploads/2022/05/BobandDee2022.jpg
END:VEVENT
BEGIN:VEVENT
DTSTART;TZID=America/New_York:20220827T130000
DTEND;TZID=America/New_York:20220827T160000
DTSTAMP:20260422T124622
CREATED:20220611T160111Z
LAST-MODIFIED:20220611T160208Z
UID:10001407-1661605200-1661616000@hazlitt1852.com
SUMMARY:Red Cat Summer Splash Dance Parties
DESCRIPTION:Red Cat is throwing a Summer Splash Dance Party!\n\nDJ’s will be spinnin’ beachy/summer vibe/house music at the outdoor Oasis Bar:\n\n• 6/18 – DJ S. Wright\n• 7/16 – New Era\n• 8/27 – DJ T-Ladd\n\nFeaturing Splash Wine Seltzers • Appearances by Red Cat • $1 off Red Cat Wine Slushies!
URL:https://hazlitt1852.com/event/red-cat-summer-splash-dance-parties/2022-08-27/
LOCATION:The Oasis @ Hazlitt 1852 Vineyards\, Hector\, NY
ATTACH;FMTTYPE=image/jpeg:https://hazlitt1852.com/wp-content/uploads/2022/06/1920x1005_FBweb_DJSplashCOVER-copy-003.jpg
END:VEVENT
BEGIN:VEVENT
DTSTART;TZID=America/New_York:20220826T173000
DTEND;TZID=America/New_York:20220826T203000
DTSTAMP:20260422T124622
CREATED:20220502T204537Z
LAST-MODIFIED:20220509T150952Z
UID:10001397-1661535000-1661545800@hazlitt1852.com
SUMMARY:LIVE @ The Oasis: Bad Bear
DESCRIPTION:Enjoy an evening of live music\, great wines\, and great times at the Oasis! \n5:30 PM – 8:30 PM \nBand: Bad Bear | Genre: Classic Rock & Funk \nNo Cover • Family Friendly • Wine • Local Snacks • Wine Slushies • Cider Tree • Local Beverages
URL:https://hazlitt1852.com/event/live-music-at-the-oasis-bad-bear/
LOCATION:The Oasis @ Hazlitt 1852 Vineyards\, Hector\, NY
ATTACH;FMTTYPE=image/jpeg:https://hazlitt1852.com/wp-content/uploads/2022/05/BadBear_WinterSaturdays2022.jpg
END:VEVENT
BEGIN:VEVENT
DTSTART;TZID=America/New_York:20220825T180000
DTEND;TZID=America/New_York:20220825T203000
DTSTAMP:20260422T124622
CREATED:20220628T140433Z
LAST-MODIFIED:20220628T140433Z
UID:10001413-1661450400-1661459400@hazlitt1852.com
SUMMARY:Open Mic Night @ The Oasis
DESCRIPTION:Musicians and Comedians of all experience levels are welcome to join in on the fun. Grab your instrument and bring your talent! \n\nThe Oasis outdoor bar will be open. Check out https://bit.ly/HazlittOasis for Food & Drink Menus.
URL:https://hazlitt1852.com/event/open-mic-night-the-oasis-8-25-22/
LOCATION:The Oasis @ Hazlitt 1852 Vineyards\, Hector\, NY
ATTACH;FMTTYPE=image/jpeg:https://hazlitt1852.com/wp-content/uploads/2022/06/OpenMicNight2_TravJeffOnly.jpg
END:VEVENT
BEGIN:VEVENT
DTSTART;TZID=America/New_York:20220821T140000
DTEND;TZID=America/New_York:20220821T170000
DTSTAMP:20260422T124622
CREATED:20220523T204036Z
LAST-MODIFIED:20220523T204036Z
UID:10001768-1661090400-1661101200@hazlitt1852.com
SUMMARY:Oasis Sunday Music: Delta Mike and Carol Xtine
DESCRIPTION:Memorial Day Weekend-Labor Day Weekend\, enjoy live music out in the Oasis every Sunday afternoon. \n2:00 p.m. – 5:00 p.m. \nBand: Delta Mike & Carol Xtine | Genre: Blues \nNo Cover • Family Friendly • Wine • Local Snacks • Wine Slushies • Cider Tree • Local Beverages
URL:https://hazlitt1852.com/event/oasis-sunday-live-music-delta-mike-and-carol-xtine/
LOCATION:The Oasis @ Hazlitt 1852 Vineyards\, Hector\, NY
ATTACH;FMTTYPE=image/png:https://hazlitt1852.com/wp-content/uploads/2022/05/DeltaMikeShawCarolXtine.png
END:VEVENT
BEGIN:VEVENT
DTSTART;TZID=America/New_York:20220819T173000
DTEND;TZID=America/New_York:20220819T203000
DTSTAMP:20260422T124622
CREATED:20220502T204240Z
LAST-MODIFIED:20220502T204240Z
UID:10001396-1660930200-1660941000@hazlitt1852.com
SUMMARY:LIVE @ The Oasis: NEO Project
DESCRIPTION:Enjoy an evening of live music\, great wines\, and great times at the Oasis! \n5:30 PM – 8:30 PM \nBand: NEO Project | Genre: Funked Up Soul \nNo Cover • Family Friendly • Wine • Local Snacks • Wine Slushies • Cider Tree • Local Beverages
URL:https://hazlitt1852.com/event/live-music-at-the-oasis-neo-project/
LOCATION:The Oasis @ Hazlitt 1852 Vineyards\, Hector\, NY
ATTACH;FMTTYPE=image/jpeg:https://hazlitt1852.com/wp-content/uploads/2022/05/NEOProject_WinterSaturdays2022.jpg
END:VEVENT
BEGIN:VEVENT
DTSTART;TZID=America/New_York:20220818T180000
DTEND;TZID=America/New_York:20220818T203000
DTSTAMP:20260422T124622
CREATED:20220628T140239Z
LAST-MODIFIED:20220628T140239Z
UID:10001412-1660845600-1660854600@hazlitt1852.com
SUMMARY:Open Mic Night @ The Oasis
DESCRIPTION:Musicians and Comedians of all experience levels are welcome to join in on the fun. Grab your instrument and bring your talent! \n\nThe Oasis outdoor bar will be open. Check out https://bit.ly/HazlittOasis for Food & Drink Menus.
URL:https://hazlitt1852.com/event/open-mic-night-the-oasis-8-18-22/
LOCATION:The Oasis @ Hazlitt 1852 Vineyards\, Hector\, NY
ATTACH;FMTTYPE=image/jpeg:https://hazlitt1852.com/wp-content/uploads/2022/06/OpenMicNight2_TravJeffOnly.jpg
END:VEVENT
BEGIN:VEVENT
DTSTART;TZID=America/New_York:20220814T140000
DTEND;TZID=America/New_York:20220814T170000
DTSTAMP:20260422T124622
CREATED:20220523T203520Z
LAST-MODIFIED:20220523T203520Z
UID:10001767-1660485600-1660496400@hazlitt1852.com
SUMMARY:Oasis Sunday Music: The Ende Brothers
DESCRIPTION:Memorial Day Weekend-Labor Day Weekend\, enjoy live music out in the Oasis every Sunday afternoon. \n2:00 p.m. – 5:00 p.m. \nBand: The Ende Brothers | Genre: Acoustic Pop & Rock \nNo Cover • Family Friendly • Wine • Local Snacks • Wine Slushies • Cider Tree • Local Beverages
URL:https://hazlitt1852.com/event/oasis-sunday-music-the-ende-brothers/
LOCATION:The Oasis @ Hazlitt 1852 Vineyards\, Hector\, NY
ATTACH;FMTTYPE=image/png:https://hazlitt1852.com/wp-content/uploads/2022/05/TheEndeBrothers.png
END:VEVENT
BEGIN:VEVENT
DTSTART;TZID=America/New_York:20220812T173000
DTEND;TZID=America/New_York:20220812T203000
DTSTAMP:20260422T124622
CREATED:20220502T203855Z
LAST-MODIFIED:20220509T150756Z
UID:10001395-1660325400-1660336200@hazlitt1852.com
SUMMARY:LIVE @ The Oasis: The Roll The Dice Band
DESCRIPTION:Enjoy an evening of live music\, great wines\, and great times at the Oasis! \n5:30 PM – 8:30 PM \nBand: The Roll The Dice Band | Genre: Blues\, Rock & Classic Rock \nNo Cover • Family Friendly • Wine • Local Snacks • Wine Slushies • Cider Tree • Local Beverages
URL:https://hazlitt1852.com/event/live-music-at-the-oasis-the-roll-the-dice-band-aug12/
LOCATION:The Oasis @ Hazlitt 1852 Vineyards\, Hector\, NY
ATTACH;FMTTYPE=image/jpeg:https://hazlitt1852.com/wp-content/uploads/2022/05/TheRolltheDiceBand2022.jpg
END:VEVENT
BEGIN:VEVENT
DTSTART;TZID=America/New_York:20220807T140000
DTEND;TZID=America/New_York:20220807T170000
DTSTAMP:20260422T124622
CREATED:20220523T203214Z
LAST-MODIFIED:20220602T201352Z
UID:10001766-1659880800-1659891600@hazlitt1852.com
SUMMARY:Oasis Sunday Music: Unshackled
DESCRIPTION:Memorial Day Weekend-Labor Day Weekend\, enjoy live music out in the Oasis every Sunday afternoon. \n2:00 p.m. – 5:00 p.m. \nBand: Unshackled | Genre: Acoustic Rock \nNo Cover • Family Friendly • Wine • Local Snacks • Wine Slushies • Cider Tree • Local Beverages
URL:https://hazlitt1852.com/event/oasis-sunday-live-music-unshackled/
LOCATION:The Oasis @ Hazlitt 1852 Vineyards\, Hector\, NY
ATTACH;FMTTYPE=image/jpeg:https://hazlitt1852.com/wp-content/uploads/2022/05/HammerandSchackle_Unshackled.jpg
END:VEVENT
BEGIN:VEVENT
DTSTART;TZID=America/New_York:20220805T173000
DTEND;TZID=America/New_York:20220805T203000
DTSTAMP:20260422T124622
CREATED:20220502T202946Z
LAST-MODIFIED:20220502T202946Z
UID:10001394-1659720600-1659731400@hazlitt1852.com
SUMMARY:LIVE @ The Oasis: Stereopticon
DESCRIPTION:Enjoy an evening of live music\, great wines\, and great times at the Oasis! \n5:30 PM – 8:30 PM \nBand: Stereopticon | Genre: Rock & Funk \nNo Cover • Family Friendly • Wine • Local Snacks • Wine Slushies • Cider Tree • Local Beverages
URL:https://hazlitt1852.com/event/live-music-at-the-oasis-stereopticon/
LOCATION:The Oasis @ Hazlitt 1852 Vineyards\, Hector\, NY
ATTACH;FMTTYPE=image/jpeg:https://hazlitt1852.com/wp-content/uploads/2022/05/Stereopticon.jpg
END:VEVENT
BEGIN:VEVENT
DTSTART;TZID=America/New_York:20220731T140000
DTEND;TZID=America/New_York:20220731T170000
DTSTAMP:20260422T124622
CREATED:20220728T184357Z
LAST-MODIFIED:20220728T184431Z
UID:10001777-1659276000-1659286800@hazlitt1852.com
SUMMARY:Oasis Sunday Music: The Junior Rich Project
DESCRIPTION:Memorial Day Weekend-Labor Day Weekend\, enjoy live music out in the Oasis every Sunday afternoon. \n2:00 p.m. – 5:00 p.m. \n\nBand: The Junior Rich Project | Genre: Acoustic Rock \n\nNo Cover • Family Friendly • Wine • Local Snacks • Wine Slushies • Cider Tree • Local Beverages
URL:https://hazlitt1852.com/event/oasis-sunday-live-music-the-junior-rich-project/
LOCATION:The Oasis @ Hazlitt 1852 Vineyards\, Hector\, NY
ATTACH;FMTTYPE=image/png:https://hazlitt1852.com/wp-content/uploads/2022/07/TheJuniorRichProject.png
END:VEVENT
BEGIN:VEVENT
DTSTART;TZID=America/New_York:20220731T140000
DTEND;TZID=America/New_York:20220731T170000
DTSTAMP:20260422T124622
CREATED:20220523T202807Z
LAST-MODIFIED:20220728T183920Z
UID:10001765-1659276000-1659286800@hazlitt1852.com
SUMMARY:•CANCELED • Oasis Sunday Music: Silver Creek Duo
DESCRIPTION:• BAND CANCELED. NEW BAND BOOKED: THE JUNIOR RICH PROJECT •\nMemorial Day Weekend-Labor Day Weekend\, enjoy live music out in the Oasis every Sunday afternoon. \n2:00 p.m. – 5:00 p.m. \nBand: Silver Creek Duo | Genre: Classic Rock\, Blues & Country \nNo Cover • Family Friendly • Wine • Local Snacks • Wine Slushies • Cider Tree • Local Beverages
URL:https://hazlitt1852.com/event/oasis-sunday-live-music-silver-creek-duo-2/
LOCATION:The Oasis @ Hazlitt 1852 Vineyards\, Hector\, NY
ATTACH;FMTTYPE=image/png:https://hazlitt1852.com/wp-content/uploads/2022/05/SilverCreekDuo-EVENT-CANCELED.png
END:VEVENT
BEGIN:VEVENT
DTSTART;TZID=America/New_York:20220729T173000
DTEND;TZID=America/New_York:20220729T203000
DTSTAMP:20260422T124622
CREATED:20220502T202525Z
LAST-MODIFIED:20220509T150828Z
UID:10001393-1659115800-1659126600@hazlitt1852.com
SUMMARY:LIVE @ The Oasis: Blue Eyed Soul
DESCRIPTION:Enjoy an evening of live music\, great wines\, and great times at the Oasis ! \n5:30 PM – 8:30 PM \nBand: Blue Eyed Soul | Genre: Funk\, Soul\, Rock & Roll \nNo Cover • Family Friendly • Wine • Local Snacks • Wine Slushies • Cider Tree • Local Beverages
URL:https://hazlitt1852.com/event/live-music-at-the-oasis-blue-eyed-soul/
LOCATION:The Oasis @ Hazlitt 1852 Vineyards\, Hector\, NY
ATTACH;FMTTYPE=image/jpeg:https://hazlitt1852.com/wp-content/uploads/2022/05/BlueEyedSoul_WinterSaturdays2022_cropped.jpg
END:VEVENT
BEGIN:VEVENT
DTSTART;TZID=America/New_York:20220724T140000
DTEND;TZID=America/New_York:20220724T170000
DTSTAMP:20260422T124622
CREATED:20220523T202356Z
LAST-MODIFIED:20220523T202356Z
UID:10001764-1658671200-1658682000@hazlitt1852.com
SUMMARY:Oasis Sunday Music: Horse Stories Trio
DESCRIPTION:Memorial Day Weekend-Labor Day Weekend\, enjoy live music out in the Oasis every Sunday afternoon. \n2:00 p.m. – 5:00 p.m. \nBand: Horse Stories Trio | Genre: Americana & Folk \nNo Cover • Family Friendly • Wine • Local Snacks • Wine Slushies • Cider Tree • Local Beverages
URL:https://hazlitt1852.com/event/oasis-sunday-live-music-horse-stories-trio/
LOCATION:The Oasis @ Hazlitt 1852 Vineyards\, Hector\, NY
ATTACH;FMTTYPE=image/jpeg:https://hazlitt1852.com/wp-content/uploads/2022/05/HorseStoriesTrio.jpg
END:VEVENT
BEGIN:VEVENT
DTSTART;TZID=America/New_York:20220722T173000
DTEND;TZID=America/New_York:20220722T203000
DTSTAMP:20260422T124622
CREATED:20220719T181142Z
LAST-MODIFIED:20220719T181142Z
UID:10001776-1658511000-1658521800@hazlitt1852.com
SUMMARY:LIVE @ The Oasis: Off The Rails
DESCRIPTION:5:30 p.m. – 8:30 p.m. \n\nBand: Off the Rails | Genre: R&B & Blues \n\nNo Cover • Family Friendly • Wine • Local Snacks • Wine Slushies • Cider Tree • Local Beverages
URL:https://hazlitt1852.com/event/live-music-at-the-oasis-off-the-rails/
LOCATION:The Oasis @ Hazlitt 1852 Vineyards\, Hector\, NY
ATTACH;FMTTYPE=image/jpeg:https://hazlitt1852.com/wp-content/uploads/2022/07/OfftheRails.jpg
END:VEVENT
BEGIN:VEVENT
DTSTART;TZID=America/New_York:20220722T173000
DTEND;TZID=America/New_York:20220722T203000
DTSTAMP:20260422T124622
CREATED:20220502T201403Z
LAST-MODIFIED:20220719T180513Z
UID:10001392-1658511000-1658521800@hazlitt1852.com
SUMMARY:• CANCELED • LIVE @ The Oasis: Rebecca & the Soul Shakers
DESCRIPTION:• BAND CANCELED. NEW BAND BOOKED: OFF THE RAILS •\nEnjoy an evening of live music\, great wines\, and great times at the Oasis ! \n5:30 PM – 8:30 PM \nBand: Rebecca & the Soul Shakers | Genre: Soul\, Rock & Alternative Country \nNo Cover • Family Friendly • Wine • Local Snacks • Wine Slushies • Cider Tree • Local Beverages
URL:https://hazlitt1852.com/event/live-music-at-the-oasis-rebecca-the-soul-shakers/
LOCATION:The Oasis @ Hazlitt 1852 Vineyards\, Hector\, NY
ATTACH;FMTTYPE=image/png:https://hazlitt1852.com/wp-content/uploads/2022/05/RebeccaSoulShakers-EVENT-CANCELED_new.png
END:VEVENT
BEGIN:VEVENT
DTSTART;TZID=America/New_York:20220717T140000
DTEND;TZID=America/New_York:20220717T170000
DTSTAMP:20260422T124622
CREATED:20220523T202101Z
LAST-MODIFIED:20220523T202101Z
UID:10001763-1658066400-1658077200@hazlitt1852.com
SUMMARY:Oasis Sunday Music: Brian Hughes
DESCRIPTION:Memorial Day Weekend-Labor Day Weekend\, enjoy live music out in the Oasis every Sunday afternoon. \n2:00 p.m. – 5:00 p.m. \nBand: Brian Hughes | Genre: Acoustic Rock & Country \nNo Cover • Family Friendly • Wine • Local Snacks • Wine Slushies • Cider Tree • Local Beverages
URL:https://hazlitt1852.com/event/oasis-sunday-live-music-brian-hughes/
LOCATION:The Oasis @ Hazlitt 1852 Vineyards\, Hector\, NY
ATTACH;FMTTYPE=image/jpeg:https://hazlitt1852.com/wp-content/uploads/2022/05/BrianHughes2022.jpg
END:VEVENT
BEGIN:VEVENT
DTSTART;TZID=America/New_York:20220716T130000
DTEND;TZID=America/New_York:20220716T160000
DTSTAMP:20260422T124622
CREATED:20220611T160111Z
LAST-MODIFIED:20220611T160208Z
UID:10001406-1657976400-1657987200@hazlitt1852.com
SUMMARY:Red Cat Summer Splash Dance Parties
DESCRIPTION:Red Cat is throwing a Summer Splash Dance Party!\n\nDJ’s will be spinnin’ beachy/summer vibe/house music at the outdoor Oasis Bar:\n\n• 6/18 – DJ S. Wright\n• 7/16 – New Era\n• 8/27 – DJ T-Ladd\n\nFeaturing Splash Wine Seltzers • Appearances by Red Cat • $1 off Red Cat Wine Slushies!
URL:https://hazlitt1852.com/event/red-cat-summer-splash-dance-parties/2022-07-16/
LOCATION:The Oasis @ Hazlitt 1852 Vineyards\, Hector\, NY
ATTACH;FMTTYPE=image/jpeg:https://hazlitt1852.com/wp-content/uploads/2022/06/1920x1005_FBweb_DJSplashCOVER-copy-003.jpg
END:VEVENT
BEGIN:VEVENT
DTSTART;TZID=America/New_York:20220715T173000
DTEND;TZID=America/New_York:20220715T203000
DTSTAMP:20260422T124622
CREATED:20220502T200734Z
LAST-MODIFIED:20220505T182009Z
UID:10001758-1657906200-1657917000@hazlitt1852.com
SUMMARY:LIVE @ The Oasis: Miller and The Other Sinners Trio
DESCRIPTION:Enjoy an evening of live music\, great wines\, and great times at the Oasis. \n5:30 PM – 8:30 PM \nBand: Miller & The Other Sinners Trio | Genre: Soul\, Rhythm & Blues \nNo Cover • Family Friendly • Wine • Local Snacks • Wine Slushies • Cider Tree • Local Beverages
URL:https://hazlitt1852.com/event/live-music-at-the-oasis-miller-and-the-other-sinners-trio/
LOCATION:The Oasis @ Hazlitt 1852 Vineyards\, Hector\, NY
ATTACH;FMTTYPE=image/jpeg:https://hazlitt1852.com/wp-content/uploads/2022/05/MillerandtheotherSinners.jpg
END:VEVENT
BEGIN:VEVENT
DTSTART;TZID=America/New_York:20220714T180000
DTEND;TZID=America/New_York:20220714T203000
DTSTAMP:20260422T124622
CREATED:20220628T140008Z
LAST-MODIFIED:20220628T140008Z
UID:10001411-1657821600-1657830600@hazlitt1852.com
SUMMARY:Open Mic Night @ The Oasis
DESCRIPTION:Musicians and Comedians of all experience levels are welcome to join in on the fun. Grab your instrument and bring your talent! \n\nThe Oasis outdoor bar will be open. Check out https://bit.ly/HazlittOasis for Food & Drink Menus.
URL:https://hazlitt1852.com/event/open-mic-night-the-oasis-7-14-22/
LOCATION:The Oasis @ Hazlitt 1852 Vineyards\, Hector\, NY
ATTACH;FMTTYPE=image/jpeg:https://hazlitt1852.com/wp-content/uploads/2022/06/OpenMicNight2_TravJeffOnly.jpg
END:VEVENT
BEGIN:VEVENT
DTSTART;TZID=America/New_York:20220710T140000
DTEND;TZID=America/New_York:20220710T170000
DTSTAMP:20260422T124622
CREATED:20220523T201717Z
LAST-MODIFIED:20220523T201717Z
UID:10001762-1657461600-1657472400@hazlitt1852.com
SUMMARY:Oasis Sunday Music: Nate Michaels
DESCRIPTION:Memorial Day Weekend-Labor Day Weekend\, enjoy live music out in the Oasis every Sunday afternoon. \n2:00 p.m. – 5:00 p.m. \nBand: Nate Michaels | Genre: Acoustic Country \nNo Cover • Family Friendly • Wine • Local Snacks • Wine Slushies • Cider Tree • Local Beverages
URL:https://hazlitt1852.com/event/oasis-sunday-live-music-nate-michaels/
LOCATION:The Oasis @ Hazlitt 1852 Vineyards\, Hector\, NY
ATTACH;FMTTYPE=image/jpeg:https://hazlitt1852.com/wp-content/uploads/2022/05/NateMichaels2022.jpg
END:VEVENT
BEGIN:VEVENT
DTSTART;TZID=America/New_York:20220708T173000
DTEND;TZID=America/New_York:20220708T203000
DTSTAMP:20260422T124622
CREATED:20220706T192822Z
LAST-MODIFIED:20220706T192943Z
UID:10001774-1657301400-1657312200@hazlitt1852.com
SUMMARY:Live @ The Oasis: Gravy Boat
DESCRIPTION:5:30 p.m. – 8:30 p.m. \n\n\nBand: Gravy Boat | Genre: Rock\, Funk\, Blues \n\nNo Cover • Family Friendly • Wine • Local Snacks • Wine Slushies • Cider Tree • Local Beverages
URL:https://hazlitt1852.com/event/live-music-at-the-oasis-gravy-boat/
LOCATION:The Oasis @ Hazlitt 1852 Vineyards\, Hector\, NY
ATTACH;FMTTYPE=image/jpeg:https://hazlitt1852.com/wp-content/uploads/2022/07/FB_IMG_1657052723951-002_GravyBoat.jpg
END:VEVENT
BEGIN:VEVENT
DTSTART;TZID=America/New_York:20220708T173000
DTEND;TZID=America/New_York:20220708T203000
DTSTAMP:20260422T124622
CREATED:20220502T200327Z
LAST-MODIFIED:20220706T192402Z
UID:10001757-1657301400-1657312200@hazlitt1852.com
SUMMARY:• CANCELED • LIVE @ The Oasis: Planet Jr
DESCRIPTION:• BAND CANCELED. NEW BAND BOOKED: GRAVY BOAT •\nEnjoy an evening of live music\, great wines\, and great times at the Oasis. \n5:30 PM – 8:30 PM \nBand: Planet Jr | Genre: Classic Jams \nNo Cover • Family Friendly • Wine • Local Snacks • Wine Slushies • Cider Tree • Local Beverages
URL:https://hazlitt1852.com/event/live-music-at-the-oasis-planet-jr/
LOCATION:The Oasis @ Hazlitt 1852 Vineyards\, Hector\, NY
ATTACH;FMTTYPE=image/jpeg:https://hazlitt1852.com/wp-content/uploads/2022/05/PlanetJr..jpg
END:VEVENT
END:VCALENDAR