BEGIN:VCALENDAR
VERSION:2.0
PRODID:-//Hazlitt - ECPv6.15.20//NONSGML v1.0//EN
CALSCALE:GREGORIAN
METHOD:PUBLISH
X-ORIGINAL-URL:https://hazlitt1852.com
X-WR-CALDESC:Events for Hazlitt
REFRESH-INTERVAL;VALUE=DURATION:PT1H
X-Robots-Tag:noindex
X-PUBLISHED-TTL:PT1H
BEGIN:VTIMEZONE
TZID:America/New_York
BEGIN:DAYLIGHT
TZOFFSETFROM:-0500
TZOFFSETTO:-0400
TZNAME:EDT
DTSTART:20200308T070000
END:DAYLIGHT
BEGIN:STANDARD
TZOFFSETFROM:-0400
TZOFFSETTO:-0500
TZNAME:EST
DTSTART:20201101T060000
END:STANDARD
BEGIN:DAYLIGHT
TZOFFSETFROM:-0500
TZOFFSETTO:-0400
TZNAME:EDT
DTSTART:20210314T070000
END:DAYLIGHT
BEGIN:STANDARD
TZOFFSETFROM:-0400
TZOFFSETTO:-0500
TZNAME:EST
DTSTART:20211107T060000
END:STANDARD
BEGIN:DAYLIGHT
TZOFFSETFROM:-0500
TZOFFSETTO:-0400
TZNAME:EDT
DTSTART:20220313T070000
END:DAYLIGHT
BEGIN:STANDARD
TZOFFSETFROM:-0400
TZOFFSETTO:-0500
TZNAME:EST
DTSTART:20221106T060000
END:STANDARD
BEGIN:DAYLIGHT
TZOFFSETFROM:-0500
TZOFFSETTO:-0400
TZNAME:EDT
DTSTART:20230312T070000
END:DAYLIGHT
BEGIN:STANDARD
TZOFFSETFROM:-0400
TZOFFSETTO:-0500
TZNAME:EST
DTSTART:20231105T060000
END:STANDARD
END:VTIMEZONE
BEGIN:VEVENT
DTSTART;TZID=America/New_York:20220619T140000
DTEND;TZID=America/New_York:20220619T170000
DTSTAMP:20260422T171240
CREATED:20220523T200140Z
LAST-MODIFIED:20220523T200154Z
UID:10001759-1655647200-1655658000@hazlitt1852.com
SUMMARY:Oasis Sunday Music: Trevor Clark
DESCRIPTION:Memorial Day Weekend-Labor Day Weekend\, enjoy live music out in the Oasis every Sunday afternoon. \n2:00 p.m. – 5:00 p.m. \nBand: Trevor Clark | Genre: Foot Stomping Roadhouse Country \nNo Cover • Family Friendly • Wine • Local Snacks • Wine Slushies • Cider Tree • Local Beverages
URL:https://hazlitt1852.com/event/oasis-sunday-live-music-trevor-clark/
LOCATION:The Oasis @ Hazlitt 1852 Vineyards\, Hector\, NY
ATTACH;FMTTYPE=image/jpeg:https://hazlitt1852.com/wp-content/uploads/2022/05/TrevorClark.jpg
END:VEVENT
BEGIN:VEVENT
DTSTART;TZID=America/New_York:20220618T130000
DTEND;TZID=America/New_York:20220618T160000
DTSTAMP:20260422T171240
CREATED:20220611T160111Z
LAST-MODIFIED:20220611T160208Z
UID:10001405-1655557200-1655568000@hazlitt1852.com
SUMMARY:Red Cat Summer Splash Dance Parties
DESCRIPTION:Red Cat is throwing a Summer Splash Dance Party!\n\nDJ’s will be spinnin’ beachy/summer vibe/house music at the outdoor Oasis Bar:\n\n• 6/18 – DJ S. Wright\n• 7/16 – New Era\n• 8/27 – DJ T-Ladd\n\nFeaturing Splash Wine Seltzers • Appearances by Red Cat • $1 off Red Cat Wine Slushies!
URL:https://hazlitt1852.com/event/red-cat-summer-splash-dance-parties/2022-06-18/
LOCATION:The Oasis @ Hazlitt 1852 Vineyards\, Hector\, NY
ATTACH;FMTTYPE=image/jpeg:https://hazlitt1852.com/wp-content/uploads/2022/06/1920x1005_FBweb_DJSplashCOVER-copy-003.jpg
END:VEVENT
BEGIN:VEVENT
DTSTART;TZID=America/New_York:20220617T173000
DTEND;TZID=America/New_York:20220617T203000
DTSTAMP:20260422T171240
CREATED:20220502T195000Z
LAST-MODIFIED:20220502T195000Z
UID:10001754-1655487000-1655497800@hazlitt1852.com
SUMMARY:LIVE @ The Oasis: RUST
DESCRIPTION:Enjoy an evening of live music\, great wines\, and great times at the Oasis  \n5:30 PM – 8:30 PM \n\nBand: RUST | Genre: Classic Rock \nNo Cover • Family Friendly • Wine • Local Snacks • Wine Slushies • Cider Tree • Local Beverages
URL:https://hazlitt1852.com/event/live-music-at-the-oasis-rust/
LOCATION:The Oasis @ Hazlitt 1852 Vineyards\, Hector\, NY
ATTACH;FMTTYPE=image/jpeg:https://hazlitt1852.com/wp-content/uploads/2022/05/RUST.jpg
END:VEVENT
BEGIN:VEVENT
DTSTART;TZID=America/New_York:20220612T140000
DTEND;TZID=America/New_York:20220612T170000
DTSTAMP:20260422T171240
CREATED:20220523T195752Z
LAST-MODIFIED:20220523T200235Z
UID:10001401-1655042400-1655053200@hazlitt1852.com
SUMMARY:Oasis Sunday Music: The Ampersand Project
DESCRIPTION:Memorial Day Weekend-Labor Day Weekend\, enjoy live music out in the Oasis every Sunday afternoon. \n2:00 p.m. – 5:00 p.m. \nBand: The Ampersand Project | Genre: Acoustic Rock\, Pop & Country \nNo Cover • Family Friendly • Wine • Local Snacks • Wine Slushies • Cider Tree • Local Beverages \n 
URL:https://hazlitt1852.com/event/oasis-sunday-live-music-the-ampersand-project/
LOCATION:The Oasis @ Hazlitt 1852 Vineyards\, Hector\, NY
ATTACH;FMTTYPE=image/jpeg:https://hazlitt1852.com/wp-content/uploads/2022/05/TheAmpersandProject.jpg
END:VEVENT
BEGIN:VEVENT
DTSTART;TZID=America/New_York:20220611T150000
DTEND;TZID=America/New_York:20220611T180000
DTSTAMP:20260422T171240
CREATED:20220611T164458Z
LAST-MODIFIED:20220611T164458Z
UID:10001408-1654959600-1654970400@hazlitt1852.com
SUMMARY:Saturday @ The Oasis: Robin Burnett & Scott Muir
DESCRIPTION:3:00 p.m. – 6:00 p.m.\n\nBand: Robin Burnett & Scott Muir\n\nNo Cover • Family Friendly • Wine • Local Snacks • Wine Slushies • Cider Tree • Local Beverages
URL:https://hazlitt1852.com/event/saturday-live-music-the-oasis-robin-burnett-scott-muir/
LOCATION:The Oasis @ Hazlitt 1852 Vineyards\, Hector\, NY
ATTACH;FMTTYPE=image/png:https://hazlitt1852.com/wp-content/uploads/2022/06/NewLiveMuiscImage.png
END:VEVENT
BEGIN:VEVENT
DTSTART;TZID=America/New_York:20220610T173000
DTEND;TZID=America/New_York:20220610T203000
DTSTAMP:20260422T171240
CREATED:20220502T194449Z
LAST-MODIFIED:20220502T194449Z
UID:10001753-1654882200-1654893000@hazlitt1852.com
SUMMARY:LIVE @ The Oasis: Stage Fright
DESCRIPTION:Enjoy an evening of live music\, great wines\, and great times at the Oasis! \n5:30 PM  – 8:30 PM \nBand: Stage Fright | Genre: The Band Covers \nNo Cover • Family Friendly • Wine • Local Snacks • Wine Slushies • Cider Tree • Local Beverages
URL:https://hazlitt1852.com/event/live-music-at-the-oasis-stage-fright/
LOCATION:The Oasis @ Hazlitt 1852 Vineyards\, Hector\, NY
ATTACH;FMTTYPE=image/jpeg:https://hazlitt1852.com/wp-content/uploads/2022/05/StageFright.jpg
END:VEVENT
BEGIN:VEVENT
DTSTART;TZID=America/New_York:20220605T140000
DTEND;TZID=America/New_York:20220605T170000
DTSTAMP:20260422T171240
CREATED:20220523T195106Z
LAST-MODIFIED:20220523T195333Z
UID:10001400-1654437600-1654448400@hazlitt1852.com
SUMMARY:Oasis Sunday Music: Simon & Longwell
DESCRIPTION:Memorial Day Weekend-Labor Day Weekend\, enjoy live music out in the Oasis every Sunday afternoon. \n\n2:00 p.m. – 5:00 p.m. \n\n\nBand: Simon & Longwell | Genre: Acoustic Light Pop \nNo Cover • Family Friendly • Wine • Local Snacks • Wine Slushies • Cider Tree • Local Beverages \n\n 
URL:https://hazlitt1852.com/event/oasis-sunday-live-music-simon-longwell-june22/
LOCATION:The Oasis @ Hazlitt 1852 Vineyards\, Hector\, NY
ATTACH;FMTTYPE=image/jpeg:https://hazlitt1852.com/wp-content/uploads/2022/05/SimonLongwell2022.jpg
END:VEVENT
BEGIN:VEVENT
DTSTART;TZID=America/New_York:20220603T173000
DTEND;TZID=America/New_York:20220603T203000
DTSTAMP:20260422T171240
CREATED:20220502T193954Z
LAST-MODIFIED:20220509T150854Z
UID:10001752-1654277400-1654288200@hazlitt1852.com
SUMMARY:LIVE @ The Oasis: Delta Mike Shaw Band
DESCRIPTION:Enjoy an evening of live music\, great wines\, and great times at the Oasis! \n5:30 p.m. – 8:30 p.m. \nBand: Delta Mike Shaw Band | Genre: Delta Blues & Rock \nNo Cover • Family Friendly • Wine • Local Snacks • Wine Slushies • Cider Tree • Local Beverages
URL:https://hazlitt1852.com/event/live-music-at-the-oasis-delta-mike-shaw-band/
LOCATION:The Oasis @ Hazlitt 1852 Vineyards\, Hector\, NY
ATTACH;FMTTYPE=image/jpeg:https://hazlitt1852.com/wp-content/uploads/2022/05/DeltaMikeShawBand_WinterSaturday2022.jpg
END:VEVENT
BEGIN:VEVENT
DTSTART;TZID=America/New_York:20220529T140000
DTEND;TZID=America/New_York:20220529T170000
DTSTAMP:20260422T171240
CREATED:20220523T194703Z
LAST-MODIFIED:20220523T194703Z
UID:10001399-1653832800-1653843600@hazlitt1852.com
SUMMARY:Oasis Sunday Music: Joanna Yaeger
DESCRIPTION:Memorial Day Weekend-Labor Day Weekend\, enjoy live music out in the Oasis every Sunday afternoon. \n2:00 p.m. – 5:00 p.m. \nBand: Joanna Yaeger | Genre: Country \n\nNo Cover • Family Friendly • Wine • Local Snacks • Wine Slushies • Cider Tree • Local Beverages
URL:https://hazlitt1852.com/event/oasis-sunday-live-music-joanna-yaeger/
LOCATION:The Oasis @ Hazlitt 1852 Vineyards\, Hector\, NY
ATTACH;FMTTYPE=image/jpeg:https://hazlitt1852.com/wp-content/uploads/2022/05/JoYaeger.jpg
END:VEVENT
BEGIN:VEVENT
DTSTART;TZID=America/New_York:20220527T173000
DTEND;TZID=America/New_York:20220527T203000
DTSTAMP:20260422T171240
CREATED:20220430T143446Z
LAST-MODIFIED:20220509T151053Z
UID:10001751-1653672600-1653683400@hazlitt1852.com
SUMMARY:LIVE @ The Oasis: Top Shelf
DESCRIPTION:Enjoy an evening of live music\, great wines\, and great times at the Oasis! \n\n5:30 p.m. – 8:30 p.m. \n\nBand: Top Shelf | Genre: Funk & Soul\n\nNo Cover • Family Friendly • Wine • Local Snacks • Wine Slushies • Cider Tree • Local Beverages\n  \n 
URL:https://hazlitt1852.com/event/live-music-at-the-oasis-top-shelf/
LOCATION:The Oasis @ Hazlitt 1852 Vineyards\, Hector\, NY
ATTACH;FMTTYPE=image/jpeg:https://hazlitt1852.com/wp-content/uploads/2022/04/TopShelf_NEW.jpg
END:VEVENT
BEGIN:VEVENT
DTSTART;TZID=America/New_York:20220520T173000
DTEND;TZID=America/New_York:20220520T203000
DTSTAMP:20260422T171240
CREATED:20220430T142650Z
LAST-MODIFIED:20220430T142650Z
UID:10001750-1653067800-1653078600@hazlitt1852.com
SUMMARY:LIVE @ The Oasis: Nectar
DESCRIPTION:Enjoy an evening of live music\, great wines\, and great times at the Oasis! \n5:30 p.m. – 8:30 p.m.\n\nBand: Nectar | Genre: Phish Covers\n\nNo Cover • Family Friendly • Wine • Local Snacks • Wine Slushies • Cider Tree • Local Beverages\n 
URL:https://hazlitt1852.com/event/live-music-at-the-oasis-nectar/
LOCATION:The Oasis @ Hazlitt 1852 Vineyards\, Hector\, NY
ATTACH;FMTTYPE=image/jpeg:https://hazlitt1852.com/wp-content/uploads/2022/04/Nectar.jpg
END:VEVENT
BEGIN:VEVENT
DTSTART;TZID=America/New_York:20220513T173000
DTEND;TZID=America/New_York:20220513T203000
DTSTAMP:20260422T171240
CREATED:20220430T141941Z
LAST-MODIFIED:20220509T150912Z
UID:10001749-1652463000-1652473800@hazlitt1852.com
SUMMARY:LIVE @ The Oasis: StratCat Willie & the Strays
DESCRIPTION:Enjoy an evening of live music\, great wines\, and great times at the Oasis ! \n5:30 p.m. – 8:30 p.m. \nBand: StratCat Willie and the Strays | Genre: Blues \nNo Cover • Family Friendly • Wine • Local Snacks • Wine Slushies • Cider Tree • Local Beverages
URL:https://hazlitt1852.com/event/live-music-at-the-oasis-stratcat-willie-the-strays-2/
LOCATION:The Oasis @ Hazlitt 1852 Vineyards\, Hector\, NY
ATTACH;FMTTYPE=image/jpeg:https://hazlitt1852.com/wp-content/uploads/2022/04/StratcatWillieandtheStrays_New2022.jpg
END:VEVENT
BEGIN:VEVENT
DTSTART;TZID=America/New_York:20220506T173000
DTEND;TZID=America/New_York:20220506T203000
DTSTAMP:20260422T171240
CREATED:20220505T200957Z
LAST-MODIFIED:20220505T200957Z
UID:10001398-1651858200-1651869000@hazlitt1852.com
SUMMARY:LIVE @ The Oasis: B-3 Band
DESCRIPTION:Enjoy an evening of live music\, great wines\, and great times at the Oasis ! \n5:30 p.m. – 8:30 p.m. \nBand: B-3 Band | Genre: Rock & Roll \nNo Cover • Family Friendly • Wine • Local Snacks • Wine Slushies • Cider Tree • Local Beverages
URL:https://hazlitt1852.com/event/live-music-at-the-oasis-b-3-band/
LOCATION:The Oasis @ Hazlitt 1852 Vineyards\, Hector\, NY
ATTACH;FMTTYPE=image/jpeg:https://hazlitt1852.com/wp-content/uploads/2022/05/B3Band.jpg
END:VEVENT
BEGIN:VEVENT
DTSTART;TZID=America/New_York:20220506T173000
DTEND;TZID=America/New_York:20220506T203000
DTSTAMP:20260422T171240
CREATED:20220430T122744Z
LAST-MODIFIED:20220505T171352Z
UID:10001384-1651858200-1651869000@hazlitt1852.com
SUMMARY:LIVE @ The Oasis: SingTrece & Stone Cold Miracle
DESCRIPTION:**Canceled**\nEnjoy an evening of live music\, great wines\, and great times at the Oasis !\n\n5:30 PM – 8:30 PM \n\n\nBand: SingTrece & Stone Cold Miracle | Genre: Funk & Soul \n\nNo Cover • Family Friendly • Wine • Local Snacks • Wine Slushies • Cider Tree • Local Beverages
URL:https://hazlitt1852.com/event/live-music-at-the-oasis-singtrece-stone-cold-miracle/
LOCATION:The Oasis @ Hazlitt 1852 Vineyards\, Hector\, NY
ATTACH;FMTTYPE=image/png:https://hazlitt1852.com/wp-content/uploads/2022/04/SingTreceStoneColdMiracle_Canceled.png
END:VEVENT
BEGIN:VEVENT
DTSTART;TZID=America/New_York:20220430T130000
DTEND;TZID=America/New_York:20220430T160000
DTSTAMP:20260422T171240
CREATED:20220430T134537Z
LAST-MODIFIED:20220430T134537Z
UID:10001391-1651323600-1651334400@hazlitt1852.com
SUMMARY:LIVE @ The Oasis: Cosmic Bear
DESCRIPTION:The winter band series has been extended through April! Join us in the (heated) Oasis for live music Saturday afternoons.\n1:00 p.m. – 4:00 p.m. \nBand: Cosmic Bear | Genre: Blues\, Jazz\, Rock \nNo Cover • Family Friendly • Wine • Local Snacks • Wine Slushies • Cider Tree • Local Beverages
URL:https://hazlitt1852.com/event/live-music-the-oasis-cosmic-bear/
LOCATION:The Oasis @ Hazlitt 1852 Vineyards\, Hector\, NY
ATTACH;FMTTYPE=image/jpeg:https://hazlitt1852.com/wp-content/uploads/2022/04/CosmicBear.jpg
END:VEVENT
BEGIN:VEVENT
DTSTART;TZID=America/New_York:20220423T130000
DTEND;TZID=America/New_York:20220423T160000
DTSTAMP:20260422T171240
CREATED:20220316T205847Z
LAST-MODIFIED:20220504T133830Z
UID:10001379-1650718800-1650729600@hazlitt1852.com
SUMMARY:LIVE@ The Oasis: City Limits
DESCRIPTION:Band: City Limits| Genre: Funk\, Blues & Rock \nThe winter band series has been extended through April!  Join us in the (heated) Oasis for live music Saturday afternoons. \nNo Cover • Family Friendly • Wine • Local Snacks • Wine Slushies • Cider Tree • Local Beverages
URL:https://hazlitt1852.com/event/live-music-the-oasis-city-limits/
LOCATION:The Oasis @ Hazlitt 1852 Vineyards\, Hector\, NY
ATTACH;FMTTYPE=image/jpeg:https://hazlitt1852.com/wp-content/uploads/2022/03/CityLimits_WinterSaturdays2022.jpg
END:VEVENT
BEGIN:VEVENT
DTSTART;TZID=America/New_York:20220416T130000
DTEND;TZID=America/New_York:20220416T160000
DTSTAMP:20260422T171240
CREATED:20220316T205525Z
LAST-MODIFIED:20220504T133910Z
UID:10001378-1650114000-1650124800@hazlitt1852.com
SUMMARY:Live @ The Oasis: Zydeco Trail Riders
DESCRIPTION:Band: Zydeco Trail Riders | Genre: Cajun\, Creole & Zydeco \nThe winter band series has been extended through April!  Join us in the (heated) Oasis for live music Saturday afternoons. \nNo Cover • Family Friendly • Wine • Local Snacks • Wine Slushies • Cider Tree • Local Beverages
URL:https://hazlitt1852.com/event/live-music-the-oasis-zydeco-trail-riders/
LOCATION:The Oasis @ Hazlitt 1852 Vineyards\, Hector\, NY
ATTACH;FMTTYPE=image/jpeg:https://hazlitt1852.com/wp-content/uploads/2022/03/ZydecoTrailRiders_WinterSaturadays2022.jpg
END:VEVENT
BEGIN:VEVENT
DTSTART;TZID=America/New_York:20220409T130000
DTEND;TZID=America/New_York:20220409T160000
DTSTAMP:20260422T171240
CREATED:20220316T204231Z
LAST-MODIFIED:20220504T133908Z
UID:10001540-1649509200-1649520000@hazlitt1852.com
SUMMARY:LIVE @ The Oasis: The Tarps
DESCRIPTION:Band: The Tarps | Genre: Classic Rock & Roll \nThe winter band series has been extended through April!  Join us in the (heated) Oasis for live music Saturday afternoons. \nNo Cover • Family Friendly • Wine • Local Snacks • Wine Slushies • Cider Tree • Local Beverages
URL:https://hazlitt1852.com/event/live-music-the-oasis-the-tarps/
LOCATION:The Oasis @ Hazlitt 1852 Vineyards\, Hector\, NY
ATTACH;FMTTYPE=image/jpeg:https://hazlitt1852.com/wp-content/uploads/2022/03/TheTarps_WinterSaturdays2022.jpg
END:VEVENT
BEGIN:VEVENT
DTSTART;TZID=America/New_York:20220402T130000
DTEND;TZID=America/New_York:20220402T160000
DTSTAMP:20260422T171240
CREATED:20220316T203704Z
LAST-MODIFIED:20220504T133905Z
UID:10001539-1648904400-1648915200@hazlitt1852.com
SUMMARY:LIVE @ The Oasis: The East-West Blues Band
DESCRIPTION:Band: The East-West Blues Band | Genre: Chicago Electric Blues & Rock \nThe winter band series has been extended through April!  Join us in the (heated) Oasis for live music Saturday afternoons. \nNo Cover • Family Friendly • Wine • Local Snacks • Wine Slushies • Cider Tree • Local Beverages
URL:https://hazlitt1852.com/event/live-music-the-oasis-the-east-west-blues-band/
LOCATION:The Oasis @ Hazlitt 1852 Vineyards\, Hector\, NY
ATTACH;FMTTYPE=image/jpeg:https://hazlitt1852.com/wp-content/uploads/2022/03/TheEastWestBluesBand_WinterSaturday2022.jpg
END:VEVENT
BEGIN:VEVENT
DTSTART;TZID=America/New_York:20220326T130000
DTEND;TZID=America/New_York:20220326T160000
DTSTAMP:20260422T171240
CREATED:20220106T204105Z
LAST-MODIFIED:20220121T151135Z
UID:10001536-1648299600-1648310400@hazlitt1852.com
SUMMARY:LIVE @ The Oasis: Cass and The Bailout Crew
DESCRIPTION:Band: Cass and The Bailout Crew | Genre: Rock\, Pop & Country \nThe winter band series is back! Join us in the (heated) Oasis for live music every Saturday all winter long. \nNo Cover • Family Friendly • Wine • Local Snacks • Wine Slushies • Cider Tree • Local Beverages
URL:https://hazlitt1852.com/event/live-music-the-oasis-cass-and-the-bailout-crew/
LOCATION:The Oasis @ Hazlitt 1852 Vineyards\, Hector\, NY
ATTACH;FMTTYPE=image/jpeg:https://hazlitt1852.com/wp-content/uploads/2022/01/CassandBailoutCrew_WinterSaturdays2022.jpg
END:VEVENT
BEGIN:VEVENT
DTSTART;TZID=America/New_York:20220319T130000
DTEND;TZID=America/New_York:20220319T160000
DTSTAMP:20260422T171240
CREATED:20220106T203739Z
LAST-MODIFIED:20220121T150905Z
UID:10001535-1647694800-1647705600@hazlitt1852.com
SUMMARY:LIVE @ The Oasis: Telephone Party
DESCRIPTION:Band: Telephone Party | Genre: Danceable Pop & Mellow Soul \nThe winter band series is back! Join us in the (heated) Oasis for live music every Saturday all winter long. \nNo Cover • Family Friendly • Wine • Local Snacks • Wine Slushies • Cider Tree • Local Beverages
URL:https://hazlitt1852.com/event/live-music-the-oasis-telephone-party/
LOCATION:The Oasis @ Hazlitt 1852 Vineyards\, Hector\, NY
ATTACH;FMTTYPE=image/jpeg:https://hazlitt1852.com/wp-content/uploads/2022/01/TelephoneParty_WinterSaturdays2022.jpg
END:VEVENT
BEGIN:VEVENT
DTSTART;TZID=America/New_York:20220312T130000
DTEND;TZID=America/New_York:20220312T160000
DTSTAMP:20260422T171240
CREATED:20220106T203403Z
LAST-MODIFIED:20220121T150959Z
UID:10001534-1647090000-1647100800@hazlitt1852.com
SUMMARY:LIVE @ The Oasis: Stratcat Willie & The Strays
DESCRIPTION:Band: Stratcat Willie & The Strays | Genre: Blues \n\n\nThe winter band series is back! Join us in the (heated) Oasis for live music every Saturday all winter long. \nNo Cover • Family Friendly • Wine • Local Snacks • Wine Slushies • Cider Tree • Local Beverages
URL:https://hazlitt1852.com/event/live-music-the-oasis-stratcat-willie-the-strays/
LOCATION:The Oasis @ Hazlitt 1852 Vineyards\, Hector\, NY
ATTACH;FMTTYPE=image/jpeg:https://hazlitt1852.com/wp-content/uploads/2022/01/StratcatWillieandtheStrays_WinterSaturdays2022.jpg
END:VEVENT
BEGIN:VEVENT
DTSTART;TZID=America/New_York:20220305T130000
DTEND;TZID=America/New_York:20220305T160000
DTSTAMP:20260422T171240
CREATED:20220106T201033Z
LAST-MODIFIED:20220121T151007Z
UID:10001533-1646485200-1646496000@hazlitt1852.com
SUMMARY:LIVE @ The Oasis: The Gabe Stillman Band
DESCRIPTION:Band: The Gabe Stillman Band | Genre: Hard Stompin’ Blues \nThe winter band series is back! Join us in the (heated) Oasis for live music every Saturday all winter long. \nNo Cover • Family Friendly • Wine • Local Snacks • Wine Slushies • Cider Tree • Local Beverages
URL:https://hazlitt1852.com/event/live-music-the-oasis-the-gabe-stillman-band/
LOCATION:The Oasis @ Hazlitt 1852 Vineyards\, Hector\, NY
ATTACH;FMTTYPE=image/jpeg:https://hazlitt1852.com/wp-content/uploads/2022/01/Gabe_KP_2021_WinterSaturdays2022_1000px.jpg
END:VEVENT
BEGIN:VEVENT
DTSTART;TZID=America/New_York:20220226T130000
DTEND;TZID=America/New_York:20220226T160000
DTSTAMP:20260422T171240
CREATED:20220106T195845Z
LAST-MODIFIED:20220121T151014Z
UID:10001532-1645880400-1645891200@hazlitt1852.com
SUMMARY:LIVE @ The Oasis: Bad Bear
DESCRIPTION:Band: Bad Bear | Genre: Classic Rock & Funk \nThe winter band series is back! Join us in the (heated) Oasis for live music every Saturday all winter long. \n\n\nNo Cover • Family Friendly • Wine • Local Snacks • Wine Slushies • Cider Tree • Local Beverages
URL:https://hazlitt1852.com/event/live-music-the-oasis-bad-bear/
LOCATION:The Oasis @ Hazlitt 1852 Vineyards\, Hector\, NY
ATTACH;FMTTYPE=image/jpeg:https://hazlitt1852.com/wp-content/uploads/2022/01/BadBear_WinterSaturdays2022.jpg
END:VEVENT
BEGIN:VEVENT
DTSTART;TZID=America/New_York:20220219T130000
DTEND;TZID=America/New_York:20220219T160000
DTSTAMP:20260422T171240
CREATED:20220106T195213Z
LAST-MODIFIED:20220121T151024Z
UID:10001531-1645275600-1645286400@hazlitt1852.com
SUMMARY:LIVE @ The Oasis: Blue Eyed Soul
DESCRIPTION:Band: Blue Eyed Soul | Genre: Funk\, Soul\, Rock & Roll \nThe winter band series is back! Join us in the (heated) Oasis for live music every Saturday all winter long. \nNo Cover • Family Friendly • Wine • Local Snacks • Wine Slushies • Cider Tree • Local Beverages
URL:https://hazlitt1852.com/event/live-music-the-oasis-blue-eyed-soul/
LOCATION:The Oasis @ Hazlitt 1852 Vineyards\, Hector\, NY
ATTACH;FMTTYPE=image/jpeg:https://hazlitt1852.com/wp-content/uploads/2022/01/BlueEyedSoul_WinterSaturdays2022-e1641480653841.jpg
END:VEVENT
BEGIN:VEVENT
DTSTART;TZID=America/New_York:20220212T130000
DTEND;TZID=America/New_York:20220212T160000
DTSTAMP:20260422T171240
CREATED:20220106T194825Z
LAST-MODIFIED:20220121T151031Z
UID:10001530-1644670800-1644681600@hazlitt1852.com
SUMMARY:LIVE @ The Oasis: Robin Burnett & A Band
DESCRIPTION:Band: Robin Burnett & A Band | Genre: Rock & Pop \nThe winter band series is back! Join us in the (heated) Oasis for live music every Saturday all winter long. \nNo Cover • Family Friendly • Wine • Local Snacks • Wine Slushies • Cider Tree • Local Beverages
URL:https://hazlitt1852.com/event/live-music-the-oasis-robin-burnett-a-band/
LOCATION:The Oasis @ Hazlitt 1852 Vineyards\, Hector\, NY
ATTACH;FMTTYPE=image/jpeg:https://hazlitt1852.com/wp-content/uploads/2022/01/RobinBurnett_WinterSaturday2022.jpg
END:VEVENT
BEGIN:VEVENT
DTSTART;TZID=America/New_York:20220129T130000
DTEND;TZID=America/New_York:20220129T160000
DTSTAMP:20260422T171240
CREATED:20220107T021954Z
LAST-MODIFIED:20220121T151047Z
UID:10001537-1643461200-1643472000@hazlitt1852.com
SUMMARY:LIVE @ The Oasis: Two for the Road Show
DESCRIPTION:Band: Two for the Road Show | Genre: Folk & Classic Rock \nThe winter band series is back! Join us in the (heated) Oasis for live music every Saturday all winter long. \nNo Cover • Family Friendly • Wine • Local Snacks • Wine Slushies • Cider Tree • Local Beverages
URL:https://hazlitt1852.com/event/live-music-the-oasis-two-for-the-road-show/
LOCATION:The Oasis @ Hazlitt 1852 Vineyards\, Hector\, NY
ATTACH;FMTTYPE=image/jpeg:https://hazlitt1852.com/wp-content/uploads/2022/01/TwofortheRoadShow2_WinterSaturdays2022.jpg
END:VEVENT
BEGIN:VEVENT
DTSTART;TZID=America/New_York:20220122T130000
DTEND;TZID=America/New_York:20220122T160000
DTSTAMP:20260422T171240
CREATED:20220106T193510Z
LAST-MODIFIED:20220121T150325Z
UID:10001529-1642856400-1642867200@hazlitt1852.com
SUMMARY:LIVE @ The Oasis: Delta Mike Shaw Band
DESCRIPTION:Band: Delta Mike Shaw Band | Genre: Delta Blues & Rock \nThe winter band series is back! Join us in the (heated) Oasis for live music every Saturday all winter long. \n\nNo Cover • Family Friendly • Wine • Local Snacks • Wine Slushies • Cider Tree • Local Beverages
URL:https://hazlitt1852.com/event/live-music-the-oasis-delta-mike-shaw-band/
LOCATION:The Oasis @ Hazlitt 1852 Vineyards\, Hector\, NY
ATTACH;FMTTYPE=image/jpeg:https://hazlitt1852.com/wp-content/uploads/2022/01/DeltaMikeShawBand_WinterSaturday2022.jpg
END:VEVENT
BEGIN:VEVENT
DTSTART;TZID=America/New_York:20220115T130000
DTEND;TZID=America/New_York:20220115T160000
DTSTAMP:20260422T171240
CREATED:20220106T192951Z
LAST-MODIFIED:20220121T151101Z
UID:10001528-1642251600-1642262400@hazlitt1852.com
SUMMARY:LIVE @ The Oasis: Top Shelf
DESCRIPTION:Band: Top Shelf | Genre: Funk & Soul \n\n\nThe winter band series is back! Join us in the (heated) Oasis for live music every Saturday all winter long. \nNo Cover • Family Friendly • Wine • Local Snacks • Wine Slushies • Cider Tree • Local Beverages
URL:https://hazlitt1852.com/event/live-music-the-oasis-top-shelf/
LOCATION:The Oasis @ Hazlitt 1852 Vineyards\, Hector\, NY
ATTACH;FMTTYPE=image/jpeg:https://hazlitt1852.com/wp-content/uploads/2022/01/TopShelf_WinterSaturdays2022.jpg
END:VEVENT
BEGIN:VEVENT
DTSTART;TZID=America/New_York:20210618T133000
DTEND;TZID=America/New_York:20210618T163000
DTSTAMP:20260422T171240
CREATED:20210524T220217Z
LAST-MODIFIED:20220509T150559Z
UID:10001489-1624023000-1624033800@hazlitt1852.com
SUMMARY:LIVE at the Oasis: Bad Bear
DESCRIPTION:Band: Bad Bear | Genre: Classic Rock & Funk \nNo Cover • Family Friendly • Wine • Local Snacks • Wine Slushies • Cider Tree • Local Beverages
URL:https://hazlitt1852.com/event/live-at-the-oasis-bad-bear/
LOCATION:The Oasis @ Hazlitt 1852 Vineyards\, Hector\, NY
ATTACH;FMTTYPE=image/jpeg:https://hazlitt1852.com/wp-content/uploads/2021/05/June-18_Bad-Bear.jpeg
END:VEVENT
END:VCALENDAR