BEGIN:VCALENDAR
VERSION:2.0
PRODID:-//Hazlitt - ECPv6.15.20//NONSGML v1.0//EN
CALSCALE:GREGORIAN
METHOD:PUBLISH
X-ORIGINAL-URL:https://hazlitt1852.com
X-WR-CALDESC:Events for Hazlitt
REFRESH-INTERVAL;VALUE=DURATION:PT1H
X-Robots-Tag:noindex
X-PUBLISHED-TTL:PT1H
BEGIN:VTIMEZONE
TZID:America/New_York
BEGIN:DAYLIGHT
TZOFFSETFROM:-0500
TZOFFSETTO:-0400
TZNAME:EDT
DTSTART:20220313T070000
END:DAYLIGHT
BEGIN:STANDARD
TZOFFSETFROM:-0400
TZOFFSETTO:-0500
TZNAME:EST
DTSTART:20221106T060000
END:STANDARD
BEGIN:DAYLIGHT
TZOFFSETFROM:-0500
TZOFFSETTO:-0400
TZNAME:EDT
DTSTART:20230312T070000
END:DAYLIGHT
BEGIN:STANDARD
TZOFFSETFROM:-0400
TZOFFSETTO:-0500
TZNAME:EST
DTSTART:20231105T060000
END:STANDARD
BEGIN:DAYLIGHT
TZOFFSETFROM:-0500
TZOFFSETTO:-0400
TZNAME:EDT
DTSTART:20240310T070000
END:DAYLIGHT
BEGIN:STANDARD
TZOFFSETFROM:-0400
TZOFFSETTO:-0500
TZNAME:EST
DTSTART:20241103T060000
END:STANDARD
BEGIN:DAYLIGHT
TZOFFSETFROM:-0500
TZOFFSETTO:-0400
TZNAME:EDT
DTSTART:20250309T070000
END:DAYLIGHT
BEGIN:STANDARD
TZOFFSETFROM:-0400
TZOFFSETTO:-0500
TZNAME:EST
DTSTART:20251102T060000
END:STANDARD
END:VTIMEZONE
BEGIN:VEVENT
DTSTART;TZID=America/New_York:20240816T173000
DTEND;TZID=America/New_York:20240816T203000
DTSTAMP:20260421T213332
CREATED:20240506T172454Z
LAST-MODIFIED:20240506T172454Z
UID:10001985-1723829400-1723840200@hazlitt1852.com
SUMMARY:LIVE @ The Oasis: City Limits
DESCRIPTION:5:30 p.m. – 8:30 p.m. \nBand: City Limits | Genre: Blues\, Funk\, & Rock \n\n\n 𝐅𝐎𝐎𝐃 𝐓𝐑𝐔𝐂𝐊: Hot Dragz LLC \n\nNo Cover • Family Friendly • Wine • Local Snacks • Wine Slushies • Cider Tree • Local Beverages
URL:https://hazlitt1852.com/event/live-music-at-the-oasis-city-limits-august-16-2024/
LOCATION:The Oasis @ Hazlitt 1852 Vineyards\, Hector\, NY
ATTACH;FMTTYPE=image/png:https://hazlitt1852.com/wp-content/uploads/2024/05/CityLimits.png
END:VEVENT
BEGIN:VEVENT
DTSTART;TZID=America/New_York:20240811T140000
DTEND;TZID=America/New_York:20240811T170000
DTSTAMP:20260421T213332
CREATED:20240716T193028Z
LAST-MODIFIED:20240716T193028Z
UID:10001548-1723384800-1723395600@hazlitt1852.com
SUMMARY:Oasis Sunday Music: Mike Lucey Acoustic
DESCRIPTION:2:00 p.m. – 5:00 p.m. \nBand: Mike Lucey Acoustic | Genre: Country\, Rock & Pop \nNo Cover • Family Friendly • Wine • Local Snacks • Wine Slushies • Cider Tree • Local Beverage
URL:https://hazlitt1852.com/event/oasis-sunday-music-mike-lucey-acoustic-august-11-2024/
LOCATION:The Oasis @ Hazlitt 1852 Vineyards\, Hector\, NY
ATTACH;FMTTYPE=image/png:https://hazlitt1852.com/wp-content/uploads/2024/07/mikelucey_800.png
END:VEVENT
BEGIN:VEVENT
DTSTART;TZID=America/New_York:20240809T173000
DTEND;TZID=America/New_York:20240809T203000
DTSTAMP:20260421T213332
CREATED:20240506T172118Z
LAST-MODIFIED:20240506T172118Z
UID:10001984-1723224600-1723235400@hazlitt1852.com
SUMMARY:LIVE @ The Oasis: The Ampersand Project
DESCRIPTION:5:30 p.m. – 8:30 p.m. \nBand: The Ampersand Project | Genre: Acoustic Rock\, Pop\, & Country \n\n\n 𝐅𝐎𝐎𝐃 𝐓𝐑𝐔𝐂𝐊: Haole Woodz Food Truck \nNo Cover • Family Friendly • Wine • Local Snacks • Wine Slushies • Cider Tree • Local Beverages
URL:https://hazlitt1852.com/event/live-music-at-the-oasis-the-ampersand-project-august-9-2024/
LOCATION:The Oasis @ Hazlitt 1852 Vineyards\, Hector\, NY
ATTACH;FMTTYPE=image/png:https://hazlitt1852.com/wp-content/uploads/2024/05/TheAmpersandProject.png
END:VEVENT
BEGIN:VEVENT
DTSTART;TZID=America/New_York:20240804T140000
DTEND;TZID=America/New_York:20240804T170000
DTSTAMP:20260421T213332
CREATED:20240716T192445Z
LAST-MODIFIED:20240716T193121Z
UID:10001547-1722780000-1722790800@hazlitt1852.com
SUMMARY:Oasis Sunday Music: Hammer & Shackle
DESCRIPTION:2:00 p.m. – 5:00 p.m. \n\n\n\nBand: Hammer & Shackle | Genre: Acoustic Rock \n\n\n\n\nNo Cover • Family Friendly • Wine • Local Snacks • Wine Slushies • Cider Tree • Local Beverages
URL:https://hazlitt1852.com/event/oasis-sunday-music-hammer-shackle-august-4-2024/
LOCATION:The Oasis @ Hazlitt 1852 Vineyards\, Hector\, NY
ATTACH;FMTTYPE=image/png:https://hazlitt1852.com/wp-content/uploads/2024/07/hammer_800.png
END:VEVENT
BEGIN:VEVENT
DTSTART;TZID=America/New_York:20240802T173000
DTEND;TZID=America/New_York:20240802T203000
DTSTAMP:20260421T213332
CREATED:20240506T171736Z
LAST-MODIFIED:20240506T171736Z
UID:10001983-1722619800-1722630600@hazlitt1852.com
SUMMARY:LIVE @ The Oasis: Dane Handrix & the Hangdog Saints
DESCRIPTION:5:30 p.m. – 8:30 p.m. \nBand: Dane Handrix & the Hangdog Saints | Genre: Blues\, Americana\, Rock & Roll \n\n\n 𝐅𝐎𝐎𝐃 𝐓𝐑𝐔𝐂𝐊: Heidi Ho’s Food Truck \n\nNo Cover • Family Friendly • Wine • Local Snacks • Wine Slushies • Cider Tree • Local Beverages
URL:https://hazlitt1852.com/event/live-music-at-the-oasis-dane-handrix-the-hangdog-saints-august-2-2024/
LOCATION:The Oasis @ Hazlitt 1852 Vineyards\, Hector\, NY
ATTACH;FMTTYPE=image/png:https://hazlitt1852.com/wp-content/uploads/2024/05/DaneHendrixandHangdogSaints.png
END:VEVENT
BEGIN:VEVENT
DTSTART;TZID=America/New_York:20240728T140000
DTEND;TZID=America/New_York:20240728T170000
DTSTAMP:20260421T213332
CREATED:20240716T191326Z
LAST-MODIFIED:20240716T193155Z
UID:10001546-1722175200-1722186000@hazlitt1852.com
SUMMARY:Oasis Sunday Music: Cordless Telephone
DESCRIPTION:2:00 p.m. – 5:00 p.m.\n\n\nBand: Cordless Telephone | Genre: Chill\, Acoustic Pop/Rock CoversDuo from the band Telephone Party \n\nNo Cover • Family Friendly • Wine • Local Snacks • Wine Slushies • Cider Tree • Local Beverage
URL:https://hazlitt1852.com/event/oasis-sunday-music-cordless-telephone-july-28-2024/
LOCATION:The Oasis @ Hazlitt 1852 Vineyards\, Hector\, NY
ATTACH;FMTTYPE=image/png:https://hazlitt1852.com/wp-content/uploads/2024/07/cordless_800x400.png
END:VEVENT
BEGIN:VEVENT
DTSTART;TZID=America/New_York:20240726T173000
DTEND;TZID=America/New_York:20240726T203000
DTSTAMP:20260421T213332
CREATED:20240502T204925Z
LAST-MODIFIED:20240506T174203Z
UID:10001982-1722015000-1722025800@hazlitt1852.com
SUMMARY:LIVE @ The Oasis: Delta Mike
DESCRIPTION:5:30 p.m. – 8:30 p.m. \nBand: Delta Mike | Genre: Delta\, Chicago\, & Original Blues \n\n 𝐅𝐎𝐎𝐃 𝐓𝐑𝐔𝐂𝐊: Haole Woodz Food Truck \n\nNo Cover • Family Friendly • Wine • Local Snacks • Wine Slushies • Cider Tree • Local Beverages
URL:https://hazlitt1852.com/event/live-music-at-the-oasis-delta-mike-july-26-2024/
LOCATION:The Oasis @ Hazlitt 1852 Vineyards\, Hector\, NY
ATTACH;FMTTYPE=image/png:https://hazlitt1852.com/wp-content/uploads/2024/05/DeltaMike.png
END:VEVENT
BEGIN:VEVENT
DTSTART;TZID=America/New_York:20240721T140000
DTEND;TZID=America/New_York:20240721T170000
DTSTAMP:20260421T213332
CREATED:20240716T185704Z
LAST-MODIFIED:20240716T193324Z
UID:10001545-1721570400-1721581200@hazlitt1852.com
SUMMARY:Oasis Sunday Music: Tremayne Harer Acoustic
DESCRIPTION:2:00 p.m. – 5:00 p.m. \nBand: Tremayne Harer Acoustic | Genre: Acoustic Rock & Pop \n\nNo Cover • Family Friendly • Wine • Local Snacks • Wine Slushies • Cider Tree • Local Beverages
URL:https://hazlitt1852.com/event/oasis-sunday-music-tremayne-harer-july-21-2024/
LOCATION:The Oasis @ Hazlitt 1852 Vineyards\, Hector\, NY
ATTACH;FMTTYPE=image/png:https://hazlitt1852.com/wp-content/uploads/2024/07/tremayne_800.png
END:VEVENT
BEGIN:VEVENT
DTSTART;TZID=America/New_York:20240719T173000
DTEND;TZID=America/New_York:20240719T203000
DTSTAMP:20260421T213332
CREATED:20240502T204548Z
LAST-MODIFIED:20240517T183606Z
UID:10001981-1721410200-1721421000@hazlitt1852.com
SUMMARY:LIVE at The Oasis: The Roll the Dice Band
DESCRIPTION:5:30 p.m. – 8:30 p.m. \nBand: The Roll the Dice Band | Genre: Blues\, Rock & Classic Rock \n\n\n 𝐅𝐎𝐎𝐃 𝐓𝐑𝐔𝐂𝐊: My Eva\, Mexican Food Truck \n\nNo Cover • Family Friendly • Wine • Local Snacks • Wine Slushies • Cider Tree • Local Beverages
URL:https://hazlitt1852.com/event/live-music-at-the-oasis-the-roll-the-dice-band-july-19-2024/
LOCATION:The Oasis @ Hazlitt 1852 Vineyards\, Hector\, NY
ATTACH;FMTTYPE=image/png:https://hazlitt1852.com/wp-content/uploads/2024/05/RolltheDiceBand.png
END:VEVENT
BEGIN:VEVENT
DTSTART;TZID=America/New_York:20240712T053000
DTEND;TZID=America/New_York:20240712T203000
DTSTAMP:20260421T213332
CREATED:20240502T194827Z
LAST-MODIFIED:20240502T194827Z
UID:10001980-1720762200-1720816200@hazlitt1852.com
SUMMARY:LIVE @ The Oasis: Kevin Ludwig
DESCRIPTION:5:30 p.m. – 8:30 p.m. \nBand: Kevin Ludwig | Genre: Acoustic Rock & Pop\n\n 𝐅𝐎𝐎𝐃 𝐓𝐑𝐔𝐂𝐊: Haole Woodz Food Truck  \n\nNo Cover • Family Friendly • Wine • Local Snacks • Wine Slushies • Cider Tree • Local Beverages
URL:https://hazlitt1852.com/event/live-music-at-the-oasis-kevin-ludwig-july-12-2024/
LOCATION:The Oasis @ Hazlitt 1852 Vineyards\, Hector\, NY
ATTACH;FMTTYPE=image/png:https://hazlitt1852.com/wp-content/uploads/2024/05/KevinLudwig.png
END:VEVENT
BEGIN:VEVENT
DTSTART;TZID=America/New_York:20240707T140000
DTEND;TZID=America/New_York:20240707T170000
DTSTAMP:20260421T213332
CREATED:20240506T202954Z
LAST-MODIFIED:20240506T202954Z
UID:10001543-1720360800-1720371600@hazlitt1852.com
SUMMARY:Oasis Sunday Music: Two Horse Johnson
DESCRIPTION:2:00 p.m. – 5:00 p.m. \nBand: Two Horse Johnson | Genre: Folk Originals & Blues\nNo Cover • Family Friendly • Wine • Local Snacks • Wine Slushies • Cider Tree • Local Beverages
URL:https://hazlitt1852.com/event/oasis-sunday-music-two-horse-johnson-july-7-2024/
LOCATION:The Oasis @ Hazlitt 1852 Vineyards\, Hector\, NY
ATTACH;FMTTYPE=image/png:https://hazlitt1852.com/wp-content/uploads/2024/05/TwoHorseJohnson.png
END:VEVENT
BEGIN:VEVENT
DTSTART;TZID=America/New_York:20240705T173000
DTEND;TZID=America/New_York:20240705T203000
DTSTAMP:20260421T213332
CREATED:20240502T193854Z
LAST-MODIFIED:20240530T201941Z
UID:10001979-1720200600-1720211400@hazlitt1852.com
SUMMARY:LIVE @ The Oasis: Cass and the Bailout Crew
DESCRIPTION:5:30 p.m. – 8:30 p.m. \nBand: Cass and the Bailout Crew | Genre: Rock\, Pop\, & Country \n\n\n 𝐅𝐎𝐎𝐃 𝐓𝐑𝐔𝐂𝐊: Blowin’ Smoke  \nNo Cover • Family Friendly • Wine • Local Snacks • Wine Slushies • Cider Tree • Local Beverages
URL:https://hazlitt1852.com/event/live-music-at-the-oasis-cass-and-the-bailout-crew-july-5-2024/
LOCATION:The Oasis @ Hazlitt 1852 Vineyards\, Hector\, NY
ATTACH;FMTTYPE=image/png:https://hazlitt1852.com/wp-content/uploads/2024/05/CassandtheBailoutCrew.png
END:VEVENT
BEGIN:VEVENT
DTSTART;TZID=America/New_York:20240630T140000
DTEND;TZID=America/New_York:20240630T170000
DTSTAMP:20260421T213332
CREATED:20240506T200752Z
LAST-MODIFIED:20240506T201206Z
UID:10001542-1719756000-1719766800@hazlitt1852.com
SUMMARY:Oasis Sunday Music: Kody & Herren
DESCRIPTION:2:00 p.m. – 5:00 p.m. \nBand: Kody & Herren | Genre: Acoustic Americana\nNo Cover • Family Friendly • Wine • Local Snacks • Wine Slushies • Cider Tree • Local Beverages
URL:https://hazlitt1852.com/event/oasis-sunday-music-kody-herren-june-30-2024/
LOCATION:The Oasis @ Hazlitt 1852 Vineyards\, Hector\, NY
ATTACH;FMTTYPE=image/png:https://hazlitt1852.com/wp-content/uploads/2024/05/KodyandHerren.png
END:VEVENT
BEGIN:VEVENT
DTSTART;TZID=America/New_York:20240628T173000
DTEND;TZID=America/New_York:20240628T203000
DTSTAMP:20260421T213332
CREATED:20240502T185750Z
LAST-MODIFIED:20240502T205204Z
UID:10001978-1719595800-1719606600@hazlitt1852.com
SUMMARY:LIVE @ The Oasis: Pat Comstock and Scott Muir
DESCRIPTION:5:30 p.m. – 8:30 p.m. \n\n\nBand: Pat Comstock & Scott Muir | Genre: Acoustic Rock \n 𝐅𝐎𝐎𝐃 𝐓𝐑𝐔𝐂𝐊: Haole Woodz Food Truck \nNo Cover • Family Friendly • Wine • Local Snacks • Wine Slushies • Cider Tree • Local Beverages
URL:https://hazlitt1852.com/event/live-music-at-the-oasis-pat-comstock-and-scott-muir-june-28-2024/
LOCATION:The Oasis @ Hazlitt 1852 Vineyards\, Hector\, NY
ATTACH;FMTTYPE=image/png:https://hazlitt1852.com/wp-content/uploads/2024/05/PatComstockScottMuir.png
END:VEVENT
BEGIN:VEVENT
DTSTART;TZID=America/New_York:20240623T140000
DTEND;TZID=America/New_York:20240623T170000
DTSTAMP:20260421T213332
CREATED:20240506T200459Z
LAST-MODIFIED:20240530T201327Z
UID:10001541-1719151200-1719162000@hazlitt1852.com
SUMMARY:Oasis Sunday Music: Madelyn Rose
DESCRIPTION:2:00 p.m. – 5:00 p.m. \nBand: Madelyn Rose | Genre: Country\nNo Cover • Family Friendly • Wine • Local Snacks • Wine Slushies • Cider Tree • Local Beverages
URL:https://hazlitt1852.com/event/oasis-sunday-live-music-madelyn-rose-june-23-2024/
LOCATION:The Oasis @ Hazlitt 1852 Vineyards\, Hector\, NY
ATTACH;FMTTYPE=image/png:https://hazlitt1852.com/wp-content/uploads/2024/05/MadelynRose.png
END:VEVENT
BEGIN:VEVENT
DTSTART;TZID=America/New_York:20240621T173000
DTEND;TZID=America/New_York:20240621T203000
DTSTAMP:20260421T213332
CREATED:20240502T185423Z
LAST-MODIFIED:20240517T180951Z
UID:10001977-1718991000-1719001800@hazlitt1852.com
SUMMARY:LIVE @ The Oasis: The Gabe Stillman Band
DESCRIPTION:5:30 p.m. – 8:30 p.m. \nBand: The Gabe Stillman Band | Genre: Hard Stompin’ Blues \n\n\n 𝐅𝐎𝐎𝐃 𝐓𝐑𝐔𝐂𝐊: On The Street Pitas \n\nNo Cover • Family Friendly • Wine • Local Snacks • Wine Slushies • Cider Tree • Local Beverages
URL:https://hazlitt1852.com/event/live-music-at-the-oasis-the-gabe-stillman-band-juen-21-2024/
LOCATION:The Oasis @ Hazlitt 1852 Vineyards\, Hector\, NY
ATTACH;FMTTYPE=image/png:https://hazlitt1852.com/wp-content/uploads/2024/05/GabeStillman.png
END:VEVENT
BEGIN:VEVENT
DTSTART;TZID=America/New_York:20240616T140000
DTEND;TZID=America/New_York:20240616T170000
DTSTAMP:20260421T213332
CREATED:20240506T200217Z
LAST-MODIFIED:20240506T201429Z
UID:10001992-1718546400-1718557200@hazlitt1852.com
SUMMARY:Oasis Sunday Music: Harry Havery
DESCRIPTION:2:00 p.m. – 5:00 p.m. \nBand: Harry Havery | Genre: Acoustic Classic Rock \nNo Cover • Family Friendly • Wine • Local Snacks • Wine Slushies • Cider Tree • Local Beverages
URL:https://hazlitt1852.com/event/oasis-sunday-live-music-harry-havery-2/
LOCATION:The Oasis @ Hazlitt 1852 Vineyards\, Hector\, NY
ATTACH;FMTTYPE=image/png:https://hazlitt1852.com/wp-content/uploads/2024/05/HarryHavery.png
END:VEVENT
BEGIN:VEVENT
DTSTART;TZID=America/New_York:20240614T173000
DTEND;TZID=America/New_York:20240614T203000
DTSTAMP:20260421T213332
CREATED:20240502T184615Z
LAST-MODIFIED:20240502T184811Z
UID:10001976-1718386200-1718397000@hazlitt1852.com
SUMMARY:LIVE @ The Oasis: Rick Testa from Fresh Vintage
DESCRIPTION:5:30 p.m. – 8:30 p.m. \nBand: Rick Testa from Fresh Vintage | Genre: Feel Good Music \n\n\n\n 𝐅𝐎𝐎𝐃 𝐓𝐑𝐔𝐂𝐊: Haole Woodz Food Truck \nNo Cover • Family Friendly • Wine • Local Snacks • Wine Slushies • Cider Tree • Local Beverages
URL:https://hazlitt1852.com/event/live-music-at-the-oasis-rick-testa-from-fresh-vintage-june-14-2024/
LOCATION:The Oasis @ Hazlitt 1852 Vineyards\, Hector\, NY
ATTACH;FMTTYPE=image/png:https://hazlitt1852.com/wp-content/uploads/2024/05/RickTestfromFreshVintage.png
END:VEVENT
BEGIN:VEVENT
DTSTART;TZID=America/New_York:20240609T140000
DTEND;TZID=America/New_York:20240609T170000
DTSTAMP:20260421T213332
CREATED:20240506T195918Z
LAST-MODIFIED:20240506T201315Z
UID:10001990-1717941600-1717952400@hazlitt1852.com
SUMMARY:Oasis Sunday Music: Mike Cavalier
DESCRIPTION:2:00 p.m. – 5:00 p.m. \nBand: Mike Cavalier | Genre: Acoustic Funk & Rock\nNo Cover • Family Friendly • Wine • Local Snacks • Wine Slushies • Cider Tree • Local Beverages
URL:https://hazlitt1852.com/event/oasis-sunday-live-music-mike-cavalier-june-9-2024/
LOCATION:The Oasis @ Hazlitt 1852 Vineyards\, Hector\, NY
ATTACH;FMTTYPE=image/png:https://hazlitt1852.com/wp-content/uploads/2024/05/MikeCavalier.png
END:VEVENT
BEGIN:VEVENT
DTSTART;TZID=America/New_York:20240607T173000
DTEND;TZID=America/New_York:20240607T203000
DTSTAMP:20260421T213332
CREATED:20240502T184113Z
LAST-MODIFIED:20240530T195510Z
UID:10001975-1717781400-1717792200@hazlitt1852.com
SUMMARY:LIVE @ The Oasis: Telephone Party
DESCRIPTION:5:30 p.m. – 8:30 p.m. \nBand: Telephone Party | Genre: Danceable Pop & Laid-Back Jams \n\n\n 𝐅𝐎𝐎𝐃 𝐓𝐑𝐔𝐂𝐊: Haole Woodz Food Truck  \nNo Cover • Family Friendly • Wine • Local Snacks • Wine Slushies • Cider Tree • Local Beverages
URL:https://hazlitt1852.com/event/live-music-at-the-oasis-telephone-party-june-7-2024/
LOCATION:The Oasis @ Hazlitt 1852 Vineyards\, Hector\, NY
ATTACH;FMTTYPE=image/png:https://hazlitt1852.com/wp-content/uploads/2024/05/TelephoneParty.png
END:VEVENT
BEGIN:VEVENT
DTSTART;TZID=America/New_York:20240602T140000
DTEND;TZID=America/New_York:20240602T170000
DTSTAMP:20260421T213332
CREATED:20240506T195633Z
LAST-MODIFIED:20240506T201242Z
UID:10001989-1717336800-1717347600@hazlitt1852.com
SUMMARY:Oasis Sunday Music: Simon & Longwell
DESCRIPTION:2:00 p.m. – 5:00 p.m. \nBand: Simon & Longwell | Genre: Acoustic light pop\nNo Cover • Family Friendly • Wine • Local Snacks • Wine Slushies • Cider Tree • Local Beverages
URL:https://hazlitt1852.com/event/oasis-sunday-live-music-simon-longwell-june-2-2024/
LOCATION:The Oasis @ Hazlitt 1852 Vineyards\, Hector\, NY
ATTACH;FMTTYPE=image/png:https://hazlitt1852.com/wp-content/uploads/2024/05/SimonandLongwell.png
END:VEVENT
BEGIN:VEVENT
DTSTART;TZID=America/New_York:20240531T173000
DTEND;TZID=America/New_York:20240531T203000
DTSTAMP:20260421T213332
CREATED:20240501T171725Z
LAST-MODIFIED:20240502T184914Z
UID:10001974-1717176600-1717187400@hazlitt1852.com
SUMMARY:LIVE @ The Oasis: Virgil Cain
DESCRIPTION:5:30 p.m. – 8:30 p.m. \nBand: Virgil Cain | Genre: Pop & Classic Rock \n\n\n 𝐅𝐎𝐎𝐃 𝐓𝐑𝐔𝐂𝐊: Haole Woodz Food Truck   \nNo Cover • Family Friendly • Wine • Local Snacks • Wine Slushies • Cider Tree • Local Beverages
URL:https://hazlitt1852.com/event/live-music-the-oasis-virgil-cain-may-31-2024/
LOCATION:The Oasis @ Hazlitt 1852 Vineyards\, Hector\, NY
ATTACH;FMTTYPE=image/png:https://hazlitt1852.com/wp-content/uploads/2024/05/VirgilCain.png
END:VEVENT
BEGIN:VEVENT
DTSTART;TZID=America/New_York:20240526T140000
DTEND;TZID=America/New_York:20240526T170000
DTSTAMP:20260421T213332
CREATED:20240506T195049Z
LAST-MODIFIED:20240506T200859Z
UID:10001988-1716732000-1716742800@hazlitt1852.com
SUMMARY:Oasis Sunday Music: Diet Sweats
DESCRIPTION:2:00 p.m. – 5:00 p.m. \nBand: Diet Sweats (Acoustic Sweats) | Genre: Americana & Rock\nNo Cover • Family Friendly • Wine • Local Snacks • Wine Slushies • Cider Tree • Local Beverages
URL:https://hazlitt1852.com/event/oasis-sunday-live-music-diet-sweats/
LOCATION:The Oasis @ Hazlitt 1852 Vineyards\, Hector\, NY
ATTACH;FMTTYPE=image/png:https://hazlitt1852.com/wp-content/uploads/2024/05/DietSweats.png
END:VEVENT
BEGIN:VEVENT
DTSTART;TZID=America/New_York:20240524T173000
DTEND;TZID=America/New_York:20240524T203000
DTSTAMP:20260421T213332
CREATED:20240501T171412Z
LAST-MODIFIED:20240502T184934Z
UID:10001973-1716571800-1716582600@hazlitt1852.com
SUMMARY:LIVE @ The Oasis: Bad Bear
DESCRIPTION:5:30 p.m. – 8:30 p.m. \nBand: Bad Bear | Genre: Classic Rock & Funk\n 𝐅𝐎𝐎𝐃 𝐓𝐑𝐔𝐂𝐊: Blowin’ Smoke \nNo Cover • Family Friendly • Wine • Local Snacks • Wine Slushies • Cider Tree • Local Beverages
URL:https://hazlitt1852.com/event/live-music-the-oasis-bad-bear-may-24-2024/
LOCATION:The Oasis @ Hazlitt 1852 Vineyards\, Hector\, NY
ATTACH;FMTTYPE=image/png:https://hazlitt1852.com/wp-content/uploads/2024/05/BadBear-1.png
END:VEVENT
BEGIN:VEVENT
DTSTART;TZID=America/New_York:20231027T173000
DTEND;TZID=America/New_York:20231027T203000
DTSTAMP:20260421T213332
CREATED:20230613T155716Z
LAST-MODIFIED:20231025T144149Z
UID:10001521-1698427800-1698438600@hazlitt1852.com
SUMMARY:LIVE @ The Oasis: Robin Burnett\, Abby Lane & Scott Muir
DESCRIPTION:5:30 p.m. – 8:30 p.m. \nBand: Robin Burnett\, Abby Lane\, & Scott Muir | Genre: Rock & Pop \nNo Cover • Family Friendly • Wine • Local Snacks • Wine Slushies • Cider Tree • Local Beverages
URL:https://hazlitt1852.com/event/live-music-the-oasis-robin-burnett-a-band-2/
LOCATION:The Oasis @ Hazlitt 1852 Vineyards\, Hector\, NY
ATTACH;FMTTYPE=image/jpeg:https://hazlitt1852.com/wp-content/uploads/2023/06/IMG_1881_RobinBurnettAbbyLaneScottMuir.jpg
END:VEVENT
BEGIN:VEVENT
DTSTART;TZID=America/New_York:20231020T173000
DTEND;TZID=America/New_York:20231020T203000
DTSTAMP:20260421T213332
CREATED:20230613T155346Z
LAST-MODIFIED:20230613T155354Z
UID:10001518-1697823000-1697833800@hazlitt1852.com
SUMMARY:LIVE @ The Oasis: Stage Fright: A Tribute to The Band
DESCRIPTION:5:30 p.m. – 8:30 p.m. \nBand: Stage Fright: A Tribute to The Band | Genre: The Band Covers \n\nNo Cover • Family Friendly • Wine • Local Snacks • Wine Slushies • Cider Tree • Local Beverages
URL:https://hazlitt1852.com/event/live-music-the-oasis-stage-fright-a-tribute-to-the-band/
LOCATION:The Oasis @ Hazlitt 1852 Vineyards\, Hector\, NY
ATTACH;FMTTYPE=image/jpeg:https://hazlitt1852.com/wp-content/uploads/2023/06/StageFrightATributeToTheBand.jpg
END:VEVENT
BEGIN:VEVENT
DTSTART;TZID=America/New_York:20231013T173000
DTEND;TZID=America/New_York:20231013T203000
DTSTAMP:20260421T213332
CREATED:20230613T155036Z
LAST-MODIFIED:20230613T160004Z
UID:10001516-1697218200-1697229000@hazlitt1852.com
SUMMARY:LIVE @ The Oasis: Dane Hendrix & the Hangdog Saints
DESCRIPTION:5:30 p.m. – 8:30 p.m. \nBand: Dane Hendrix & the Hangdog Saints | Genre: Blues\, Americana\, Rock & Roll \n\n\nNo Cover • Family Friendly • Wine • Local Snacks • Wine Slushies • Cider Tree • Local Beverages
URL:https://hazlitt1852.com/event/live-music-the-oasis-dane-hendrix-the-hangdog-saints/
LOCATION:The Oasis @ Hazlitt 1852 Vineyards\, Hector\, NY
ATTACH;FMTTYPE=image/jpeg:https://hazlitt1852.com/wp-content/uploads/2023/06/Dane-Hendrix-the-Hangdog-Saints.jpg
END:VEVENT
BEGIN:VEVENT
DTSTART;TZID=America/New_York:20231006T173000
DTEND;TZID=America/New_York:20231006T203000
DTSTAMP:20260421T213332
CREATED:20231002T203352Z
LAST-MODIFIED:20231002T203542Z
UID:10001878-1696613400-1696624200@hazlitt1852.com
SUMMARY:LIVE @ The Oasis: The Junior Rich Project
DESCRIPTION:5:30 p.m. – 8:30 p.m. \nBand: The Junior Rich Project | Genre: Classic Rock \n\n\nNo Cover • Family Friendly • Wine • Wine Slushies • Cider Tree • Local Beverages
URL:https://hazlitt1852.com/event/live-music-the-oasis-the-junior-rich-project/
LOCATION:The Oasis @ Hazlitt 1852 Vineyards\, Hector\, NY
ATTACH;FMTTYPE=image/jpeg:https://hazlitt1852.com/wp-content/uploads/2023/06/TheJuniorRichProject-e1696278932736.jpg
END:VEVENT
BEGIN:VEVENT
DTSTART;TZID=America/New_York:20231006T173000
DTEND;TZID=America/New_York:20231006T203000
DTSTAMP:20260421T213332
CREATED:20230613T154716Z
LAST-MODIFIED:20231002T202146Z
UID:10001514-1696613400-1696624200@hazlitt1852.com
SUMMARY:LIVE @ The Oasis: The Small Kings • CANCELED •
DESCRIPTION:• CANCELED • \n5:30 p.m. – 8:30 p.m. \nBand: The Small Kings | Genre: Progressive Pop Rock \n\n\nNo Cover • Family Friendly • Wine • Local Snacks • Wine Slushies • Cider Tree • Local Beverages
URL:https://hazlitt1852.com/event/live-music-the-oasis-the-small-kings/
LOCATION:The Oasis @ Hazlitt 1852 Vineyards\, Hector\, NY
ATTACH;FMTTYPE=image/png:https://hazlitt1852.com/wp-content/uploads/2023/06/Canceled_TheSmallKings.png
END:VEVENT
BEGIN:VEVENT
DTSTART;TZID=America/New_York:20231004T180000
DTEND;TZID=America/New_York:20231004T204500
DTSTAMP:20260421T213332
CREATED:20230917T165954Z
LAST-MODIFIED:20231002T191144Z
UID:10001877-1696442400-1696452300@hazlitt1852.com
SUMMARY:Psychic Medium Cindy Lane Newcomb at The Oasis • SOLD OUT •
DESCRIPTION:• SOLD OUT • \n6:00 PM – 8:45 PM \nEnjoy a fun evening out with friends at the Oasis with Psychic Medium Cindy Lane Newcomb. Cindy has 20+ years of experience connecting you with loved ones\, giving insight into your future\, and more!  Oasis Drink Menu including NA drink options and snack basket options will be available for purchase. $55 per person. Limited seats available. \n 
URL:https://hazlitt1852.com/event/psychic-medium-cindy-lane-newcomb-at-the-oasis/
LOCATION:The Oasis @ Hazlitt 1852 Vineyards\, Hector\, NY
ATTACH;FMTTYPE=image/png:https://hazlitt1852.com/wp-content/uploads/2023/09/CindyNewcombSOLD-OUT.png
END:VEVENT
END:VCALENDAR